BEGIN:VCALENDAR
VERSION:2.0
PRODID:-//HD SOUTH - Home Of The Gilbert Historical Museum - ECPv6.15.20//NONSGML v1.0//EN
CALSCALE:GREGORIAN
METHOD:PUBLISH
X-WR-CALNAME:HD SOUTH - Home Of The Gilbert Historical Museum
X-ORIGINAL-URL:https://hdsouth.org
X-WR-CALDESC:Events for HD SOUTH - Home Of The Gilbert Historical Museum
REFRESH-INTERVAL;VALUE=DURATION:PT1H
X-Robots-Tag:noindex
X-PUBLISHED-TTL:PT1H
BEGIN:VTIMEZONE
TZID:America/Phoenix
BEGIN:STANDARD
TZOFFSETFROM:-0700
TZOFFSETTO:-0700
TZNAME:MST
DTSTART:20210101T000000
END:STANDARD
END:VTIMEZONE
BEGIN:VEVENT
DTSTART;TZID=America/Phoenix:20220212T103000
DTEND;TZID=America/Phoenix:20220212T120000
DTSTAMP:20260421T115605
CREATED:20220111T180755Z
LAST-MODIFIED:20220113T181308Z
UID:10003179-1644661800-1644667200@hdsouth.org
SUMMARY:Author Share - Writing and Publishing a Book
DESCRIPTION:Do you have an unpublished manuscript languishing on your shelf? Or do you nurse an ambition to write a book? Join a presentation by authors Srianthi Perera and Lilia Fallgatter as they unravel their experiences in writing and publishing.  Srianthi Perera is the author of a literary novel\, A Maiden’s Prayer: A Family Story Set in 1970s Sri Lanka. Lilia Fallgatter\, JD\, writer\, poet and songwriter\, is the author of The Most Important Letter You Will Ever Write and other non-fiction titles. The two authors will read excerpts from their books.  They will have books available for purchase the day of the event\, and they will sign your copies! \nRegistration is required. \nCost: FREE \nMasks Recommended
URL:https://hdsouth.org/event/author-share-writing-and-publishing-a-book/
LOCATION:HD SOUTH\, 10 S. Gilbert Road\, Gilbert\, AZ\, 85296\, United States
CATEGORIES:Programs,Storyteller Programs
ATTACH;FMTTYPE=image/jpeg:https://hdsouth.org/wp-content/uploads/2019/08/writing-e1566929367476.jpg
GEO:33.3494006;-111.7901119
X-APPLE-STRUCTURED-LOCATION;VALUE=URI;X-ADDRESS=HD SOUTH 10 S. Gilbert Road Gilbert AZ 85296 United States;X-APPLE-RADIUS=500;X-TITLE=10 S. Gilbert Road:geo:-111.7901119,33.3494006
END:VEVENT
END:VCALENDAR