BEGIN:VCALENDAR
VERSION:2.0
PRODID:-//HD SOUTH - Home Of The Gilbert Historical Museum - ECPv6.15.20//NONSGML v1.0//EN
CALSCALE:GREGORIAN
METHOD:PUBLISH
X-WR-CALNAME:HD SOUTH - Home Of The Gilbert Historical Museum
X-ORIGINAL-URL:https://hdsouth.org
X-WR-CALDESC:Events for HD SOUTH - Home Of The Gilbert Historical Museum
REFRESH-INTERVAL;VALUE=DURATION:PT1H
X-Robots-Tag:noindex
X-PUBLISHED-TTL:PT1H
BEGIN:VTIMEZONE
TZID:America/Phoenix
BEGIN:STANDARD
TZOFFSETFROM:-0700
TZOFFSETTO:-0700
TZNAME:MST
DTSTART:20210101T000000
END:STANDARD
END:VTIMEZONE
BEGIN:VEVENT
DTSTART;TZID=America/Phoenix:20220219T103000
DTEND;TZID=America/Phoenix:20220219T120000
DTSTAMP:20260421T115539
CREATED:20220111T181130Z
LAST-MODIFIED:20220113T180603Z
UID:10003181-1645266600-1645272000@hdsouth.org
SUMMARY:Watercolor Workshop
DESCRIPTION:Come spend a Saturday morning at the museum with this fun and instructive art workshop where participants will learn how to paint flowers using watercolors. Led by acclaimed artist\, art educator\, and Gilbert Visual Art League member\, Jean Smith\, attendees will be able to create a flower masterpiece of their very own. \nAges 10 & up – All supplies are provided. \nRegistration is required. \nMasks Recommended
URL:https://hdsouth.org/event/watercolor-workshop/
LOCATION:HD SOUTH\, 10 S. Gilbert Road\, Gilbert\, AZ\, 85296\, United States
CATEGORIES:Art Workshops,Programs
ATTACH;FMTTYPE=image/jpeg:https://hdsouth.org/wp-content/uploads/2021/04/flower-watercolor-e1617291509343.jpg
GEO:33.3494006;-111.7901119
X-APPLE-STRUCTURED-LOCATION;VALUE=URI;X-ADDRESS=HD SOUTH 10 S. Gilbert Road Gilbert AZ 85296 United States;X-APPLE-RADIUS=500;X-TITLE=10 S. Gilbert Road:geo:-111.7901119,33.3494006
END:VEVENT
BEGIN:VEVENT
DTSTART;TZID=America/Phoenix:20220219T180000
DTEND;TZID=America/Phoenix:20220219T220000
DTSTAMP:20260421T115539
CREATED:20220101T205222Z
LAST-MODIFIED:20220127T160122Z
UID:10003349-1645293600-1645308000@hdsouth.org
SUMMARY:HD SOUTH 10th Annual Fundraising Event
DESCRIPTION:In support of the Gilbert Historical Society\, a group of community volunteers have come together to organize our 10th Annual Signature Fundraising Gala that is certain to be a fanciful evening. “A Night at the Museum – Through The Lens” will take place on Saturday\, February 19\, 2022. This in-person evening will feature a lively cocktail hour and silent auction\, followed by dinner\, a live auction\, live entertainment\, and dancing. Attendees will enjoy a stroll down memory lane as you view images from previous Gala events. We hope you can join us for this diamond studded paparazzi celebration! \nPurchase your tickets 
URL:https://hdsouth.org/event/hd-south-10th-annual-fundraising-event/
LOCATION:HD SOUTH\, 10 S. Gilbert Road\, Gilbert\, AZ\, 85296\, United States
CATEGORIES:Events
ATTACH;FMTTYPE=image/jpeg:https://hdsouth.org/wp-content/uploads/2022/01/FINAL-LOGO-e1641070320557.jpg
GEO:33.3494006;-111.7901119
X-APPLE-STRUCTURED-LOCATION;VALUE=URI;X-ADDRESS=HD SOUTH 10 S. Gilbert Road Gilbert AZ 85296 United States;X-APPLE-RADIUS=500;X-TITLE=10 S. Gilbert Road:geo:-111.7901119,33.3494006
END:VEVENT
END:VCALENDAR