BEGIN:VCALENDAR
VERSION:2.0
PRODID:-//HD SOUTH - Home Of The Gilbert Historical Museum - ECPv6.15.20//NONSGML v1.0//EN
CALSCALE:GREGORIAN
METHOD:PUBLISH
X-WR-CALNAME:HD SOUTH - Home Of The Gilbert Historical Museum
X-ORIGINAL-URL:https://hdsouth.org
X-WR-CALDESC:Events for HD SOUTH - Home Of The Gilbert Historical Museum
REFRESH-INTERVAL;VALUE=DURATION:PT1H
X-Robots-Tag:noindex
X-PUBLISHED-TTL:PT1H
BEGIN:VTIMEZONE
TZID:America/Phoenix
BEGIN:STANDARD
TZOFFSETFROM:-0700
TZOFFSETTO:-0700
TZNAME:MST
DTSTART:20210101T000000
END:STANDARD
END:VTIMEZONE
BEGIN:VEVENT
DTSTART;TZID=America/Phoenix:20220222T183000
DTEND;TZID=America/Phoenix:20220222T200000
DTSTAMP:20260421T115509
CREATED:20220111T181523Z
LAST-MODIFIED:20220222T211425Z
UID:10003351-1645554600-1645560000@hdsouth.org
SUMMARY:Cooking up Good Health with Rachel Thomas
DESCRIPTION:Anxious to jump start a healthy routine with healthy eating and cooking? Need some recipe inspiration and good-for-you recipes? Then you will not want to miss this healthy cooking program conducted by Rachel Thomas. Rachel has hosted thousands of cooking demonstrations and has an extensive library of healthy recipes\, some of which she will share and demonstrate during this workshop. New year\, new you\, new food! \nRegistration is required. \nThis event has been canceled
URL:https://hdsouth.org/event/cooking-up-good-health-with-rachel-thomas-3/
LOCATION:HD SOUTH\, 10 S. Gilbert Road\, Gilbert\, AZ\, 85296\, United States
CATEGORIES:Health & Wellness,Programs
ATTACH;FMTTYPE=image/jpeg:https://hdsouth.org/wp-content/uploads/2020/12/Heart-Healthy-Cooking-M-e1608146897515.jpg
GEO:33.3494006;-111.7901119
X-APPLE-STRUCTURED-LOCATION;VALUE=URI;X-ADDRESS=HD SOUTH 10 S. Gilbert Road Gilbert AZ 85296 United States;X-APPLE-RADIUS=500;X-TITLE=10 S. Gilbert Road:geo:-111.7901119,33.3494006
END:VEVENT
END:VCALENDAR