BEGIN:VCALENDAR
VERSION:2.0
PRODID:-//HD SOUTH - Home Of The Gilbert Historical Museum - ECPv6.15.20//NONSGML v1.0//EN
CALSCALE:GREGORIAN
METHOD:PUBLISH
X-ORIGINAL-URL:https://hdsouth.org
X-WR-CALDESC:Events for HD SOUTH - Home Of The Gilbert Historical Museum
REFRESH-INTERVAL;VALUE=DURATION:PT1H
X-Robots-Tag:noindex
X-PUBLISHED-TTL:PT1H
BEGIN:VTIMEZONE
TZID:America/Phoenix
BEGIN:STANDARD
TZOFFSETFROM:-0700
TZOFFSETTO:-0700
TZNAME:MST
DTSTART:20210101T000000
END:STANDARD
END:VTIMEZONE
BEGIN:VEVENT
DTSTART;TZID=America/Phoenix:20220324T180000
DTEND;TZID=America/Phoenix:20220324T193000
DTSTAMP:20260421T131540
CREATED:20220317T183658Z
LAST-MODIFIED:20220317T183658Z
UID:10003379-1648144800-1648150200@hdsouth.org
SUMMARY:Annual Members Meeting - 2022
DESCRIPTION:Join us for our 2022 Annual Members meeting and election of trustees.\nIn the Neely Community Room \nGuest Speaker Jerry Wilson\, Intel Encore Fellow\n“Stranger Things—Gilbert Edition”
URL:https://hdsouth.org/event/annual-members-meeting-2022/
LOCATION:HD SOUTH\, 10 S. Gilbert Road\, Gilbert\, AZ\, 85296\, United States
CATEGORIES:Events
ATTACH;FMTTYPE=image/jpeg:https://hdsouth.org/wp-content/uploads/2017/10/HD-SOUTH-Events-Banner.jpg
GEO:33.3494006;-111.7901119
X-APPLE-STRUCTURED-LOCATION;VALUE=URI;X-ADDRESS=HD SOUTH 10 S. Gilbert Road Gilbert AZ 85296 United States;X-APPLE-RADIUS=500;X-TITLE=10 S. Gilbert Road:geo:-111.7901119,33.3494006
END:VEVENT
END:VCALENDAR