BEGIN:VCALENDAR
VERSION:2.0
PRODID:-//HD SOUTH - Home Of The Gilbert Historical Museum - ECPv6.15.20//NONSGML v1.0//EN
CALSCALE:GREGORIAN
METHOD:PUBLISH
X-ORIGINAL-URL:https://hdsouth.org
X-WR-CALDESC:Events for HD SOUTH - Home Of The Gilbert Historical Museum
REFRESH-INTERVAL;VALUE=DURATION:PT1H
X-Robots-Tag:noindex
X-PUBLISHED-TTL:PT1H
BEGIN:VTIMEZONE
TZID:America/Phoenix
BEGIN:STANDARD
TZOFFSETFROM:-0700
TZOFFSETTO:-0700
TZNAME:MST
DTSTART:20210101T000000
END:STANDARD
END:VTIMEZONE
BEGIN:VEVENT
DTSTART;TZID=America/Phoenix:20220405T183000
DTEND;TZID=America/Phoenix:20220405T200000
DTSTAMP:20260421T145818
CREATED:20220303T150818Z
LAST-MODIFIED:20220303T150818Z
UID:10003367-1649183400-1649188800@hdsouth.org
SUMMARY:Paint and Sip- Roosters in Watercolor
DESCRIPTION:Join HD SOUTH and Gilbert Visual Arts League member\, Jean Smith in this fun and interactive paint and sip workshop. Jean will lead participants through the steps to create your very own rooster using watercolors. Whether you are a beginner or a seasoned painter\, come and learn how to paint your very own rooster masterpiece. \nAll art supplies will be provided. BYOB \nAges 21+ \nRegistration is required.
URL:https://hdsouth.org/event/paint-and-sip-roosters-in-watercolor/
LOCATION:HD SOUTH\, 10 S. Gilbert Road\, Gilbert\, AZ\, 85296\, United States
CATEGORIES:Art Workshops,Programs
ATTACH;FMTTYPE=image/jpeg:https://hdsouth.org/wp-content/uploads/2022/03/Rooster-scaled-e1646320073862.jpg
GEO:33.3494006;-111.7901119
X-APPLE-STRUCTURED-LOCATION;VALUE=URI;X-ADDRESS=HD SOUTH 10 S. Gilbert Road Gilbert AZ 85296 United States;X-APPLE-RADIUS=500;X-TITLE=10 S. Gilbert Road:geo:-111.7901119,33.3494006
END:VEVENT
END:VCALENDAR