BEGIN:VCALENDAR
VERSION:2.0
PRODID:-//HD SOUTH - Home Of The Gilbert Historical Museum - ECPv6.15.20//NONSGML v1.0//EN
CALSCALE:GREGORIAN
METHOD:PUBLISH
X-WR-CALNAME:HD SOUTH - Home Of The Gilbert Historical Museum
X-ORIGINAL-URL:https://hdsouth.org
X-WR-CALDESC:Events for HD SOUTH - Home Of The Gilbert Historical Museum
REFRESH-INTERVAL;VALUE=DURATION:PT1H
X-Robots-Tag:noindex
X-PUBLISHED-TTL:PT1H
BEGIN:VTIMEZONE
TZID:America/Phoenix
BEGIN:STANDARD
TZOFFSETFROM:-0700
TZOFFSETTO:-0700
TZNAME:MST
DTSTART:20240101T000000
END:STANDARD
END:VTIMEZONE
BEGIN:VEVENT
DTSTART;TZID=America/Phoenix:20250805T183000
DTEND;TZID=America/Phoenix:20250805T200000
DTSTAMP:20260420T043932
CREATED:20250703T151709Z
LAST-MODIFIED:20250703T151709Z
UID:10003936-1754418600-1754424000@hdsouth.org
SUMMARY:AUTHOR VISIT-BOOK READING WITH DALE HALLOCK
DESCRIPTION:Dale Hallock is back and he will share with program attendees highlights and interesting facts from his Gilbert history book “From Cowboys and Sodbusters to a Mega-Residential Community”. Dale came to Gilbert with his parents and siblings as they fled the Oklahoma Dust Bowl and the Great Depression and has called Gilbert his home ever since.  From 1971-1976 he served as the Mayor where he expanded Gilbert from a mere 240 acres to 33\,920 acres\, giving Gilbert the opportunity to grow. Come and enjoy this special opportunity to speak with the author and learn about Gilbert’s history as Dale shares excerpts from his book. \nRegistration is required.
URL:https://hdsouth.org/event/author-visit-book-reading-with-dale-hallock/
LOCATION:HD SOUTH\, 10 S. Gilbert Road\, Gilbert\, AZ\, 85296\, United States
CATEGORIES:History Cafés,Programs
ATTACH;FMTTYPE=image/jpeg:https://hdsouth.org/wp-content/uploads/2017/10/FromCowboyAndSodbusters.jpg
GEO:33.3494006;-111.7901119
X-APPLE-STRUCTURED-LOCATION;VALUE=URI;X-ADDRESS=HD SOUTH 10 S. Gilbert Road Gilbert AZ 85296 United States;X-APPLE-RADIUS=500;X-TITLE=10 S. Gilbert Road:geo:-111.7901119,33.3494006
END:VEVENT
END:VCALENDAR