BEGIN:VCALENDAR
VERSION:2.0
PRODID:-//HD SOUTH - Home Of The Gilbert Historical Museum - ECPv6.15.20//NONSGML v1.0//EN
CALSCALE:GREGORIAN
METHOD:PUBLISH
X-ORIGINAL-URL:https://hdsouth.org
X-WR-CALDESC:Events for HD SOUTH - Home Of The Gilbert Historical Museum
REFRESH-INTERVAL;VALUE=DURATION:PT1H
X-Robots-Tag:noindex
X-PUBLISHED-TTL:PT1H
BEGIN:VTIMEZONE
TZID:America/Phoenix
BEGIN:STANDARD
TZOFFSETFROM:-0700
TZOFFSETTO:-0700
TZNAME:MST
DTSTART:20240101T000000
END:STANDARD
END:VTIMEZONE
BEGIN:VEVENT
DTSTART;TZID=America/Phoenix:20250809T103000
DTEND;TZID=America/Phoenix:20250809T120000
DTSTAMP:20260420T041809
CREATED:20250703T152639Z
LAST-MODIFIED:20250717T211100Z
UID:10003939-1754735400-1754740800@hdsouth.org
SUMMARY:ARIZONA FOSSILS
DESCRIPTION:Journey back in time to explore the incredible diversity of prehistoric life that once thrived in what is now central and northern Arizona. Join us as Dr. Jeffrey Langland\, Ph.D. uncovers the fascinating ecosystems that shaped the region’s natural history over hundreds of millions of years.  From ancient oceans teeming with marine reptiles & invertebrates to lush forests roamed by early dinosaurs and Ice Age mammals.  Participants will discover how Arizona’s unique geological features—like the Petrified Forest\, the Mogollon Rim\, and the Grand Canyon—hold clues to life from the Paleozoic\, Mesozoic\, and Cenozoic eras. Attendees will gain a deeper understanding of evolutionary biology and climate change through time. \nRegistration required.
URL:https://hdsouth.org/event/arizona-fossils/
LOCATION:HD SOUTH\, 10 S. Gilbert Road\, Gilbert\, AZ\, 85296\, United States
CATEGORIES:History Cafés,Programs
ATTACH;FMTTYPE=image/jpeg:https://hdsouth.org/wp-content/uploads/2025/07/petrified-national-forest-e1751556384115.jpg
GEO:33.3494006;-111.7901119
X-APPLE-STRUCTURED-LOCATION;VALUE=URI;X-ADDRESS=HD SOUTH 10 S. Gilbert Road Gilbert AZ 85296 United States;X-APPLE-RADIUS=500;X-TITLE=10 S. Gilbert Road:geo:-111.7901119,33.3494006
END:VEVENT
BEGIN:VEVENT
DTSTART;TZID=America/Phoenix:20250809T133000
DTEND;TZID=America/Phoenix:20250809T150000
DTSTAMP:20260420T041809
CREATED:20250703T153436Z
LAST-MODIFIED:20250717T210954Z
UID:10003940-1754746200-1754751600@hdsouth.org
SUMMARY:ARIZONA MINERALS
DESCRIPTION:Join native Arizonan and retired mining engineer\, Les Presmyk as he shares his vast knowledge of Arizona mining history.  He will also share how his love affair with minerals started at the tender age of 10 when he started collecting minerals.  Les worked for 11 years at the Magma Mine in Superior and the San Manuel Mine in San Manuel\, spending the next 30 plus years with SRP working with coal mines and uranium fuel supplies for SRP’s seven generating stations\, including Palo Verde Nuclear Generating Station.  He and his wife\, Paula\, have lived in Gilbert for 39 years. \nRegistration required.
URL:https://hdsouth.org/event/arizona-minerals/
LOCATION:HD SOUTH\, 10 S. Gilbert Road\, Gilbert\, AZ\, 85296\, United States
CATEGORIES:History Cafés,Programs
ATTACH;FMTTYPE=image/jpeg:https://hdsouth.org/wp-content/uploads/2025/07/az-rocks-e1751556857241.jpg
GEO:33.3494006;-111.7901119
X-APPLE-STRUCTURED-LOCATION;VALUE=URI;X-ADDRESS=HD SOUTH 10 S. Gilbert Road Gilbert AZ 85296 United States;X-APPLE-RADIUS=500;X-TITLE=10 S. Gilbert Road:geo:-111.7901119,33.3494006
END:VEVENT
END:VCALENDAR