BEGIN:VCALENDAR
VERSION:2.0
PRODID:-//HD SOUTH - Home Of The Gilbert Historical Museum - ECPv6.15.20//NONSGML v1.0//EN
CALSCALE:GREGORIAN
METHOD:PUBLISH
X-WR-CALNAME:HD SOUTH - Home Of The Gilbert Historical Museum
X-ORIGINAL-URL:https://hdsouth.org
X-WR-CALDESC:Events for HD SOUTH - Home Of The Gilbert Historical Museum
REFRESH-INTERVAL;VALUE=DURATION:PT1H
X-Robots-Tag:noindex
X-PUBLISHED-TTL:PT1H
BEGIN:VTIMEZONE
TZID:America/Phoenix
BEGIN:STANDARD
TZOFFSETFROM:-0700
TZOFFSETTO:-0700
TZNAME:MST
DTSTART:20240101T000000
END:STANDARD
END:VTIMEZONE
BEGIN:VEVENT
DTSTART;TZID=America/Phoenix:20250823T100000
DTEND;TZID=America/Phoenix:20250823T120000
DTSTAMP:20260420T043505
CREATED:20250703T154450Z
LAST-MODIFIED:20250721T210648Z
UID:10003942-1755943200-1755950400@hdsouth.org
SUMMARY:TURNING A COMIC BOOK PAGE KIDS EDITION-A SUPERHERO WORKSHOP
DESCRIPTION:Join HD SOUTH as we welcome back local artist Russ Kazmierczak from Turning a Comic Book Page. This fun\, interactive workshop will offer kids tips and tricks for creating their own original superheroes\, and how to tell stories in the exciting medium of comic books! Prizes will be available for the young artists that attend. All supplies will be provided. Ages 8 to 14. Class size limited. \nIf you’d like to be added to the Wait List for this program\, please email our Program Coordinator at marilynn@hdsouth.org
URL:https://hdsouth.org/event/turning-a-comic-book-page-kids-edition-a-superhero-workshop/
LOCATION:HD SOUTH\, 10 S. Gilbert Road\, Gilbert\, AZ\, 85296\, United States
CATEGORIES:Art Workshops,Programs
ATTACH;FMTTYPE=image/jpeg:https://hdsouth.org/wp-content/uploads/2022/03/dc-comics-e1648668092465.jpg
GEO:33.3494006;-111.7901119
X-APPLE-STRUCTURED-LOCATION;VALUE=URI;X-ADDRESS=HD SOUTH 10 S. Gilbert Road Gilbert AZ 85296 United States;X-APPLE-RADIUS=500;X-TITLE=10 S. Gilbert Road:geo:-111.7901119,33.3494006
END:VEVENT
BEGIN:VEVENT
DTSTART;TZID=America/Phoenix:20250823T130000
DTEND;TZID=America/Phoenix:20250823T143000
DTSTAMP:20260420T043505
CREATED:20250703T154640Z
LAST-MODIFIED:20250819T211418Z
UID:10003943-1755954000-1755959400@hdsouth.org
SUMMARY:STEM SATURDAY
DESCRIPTION:Have fun at the museum on Saturday afternoons with AP teacher Karen Maas\, from the Gilbert Classical Academy\, and her STEM students as they share a STEM learning adventure with participants. GCA students will introduce a variety of activities which can include 3D printing with both 3D pens and printers\, CAD applications using Tinkercad\, Makey Makey apps with fruit\, and more! \nRegistration is required.
URL:https://hdsouth.org/event/stem-saturday-29/
LOCATION:HD SOUTH\, 10 S. Gilbert Road\, Gilbert\, AZ\, 85296\, United States
CATEGORIES:Programs,Science Cafés
ATTACH;FMTTYPE=image/jpeg:https://hdsouth.org/wp-content/uploads/2021/04/STEM-e1617292079722.jpeg
GEO:33.3494006;-111.7901119
X-APPLE-STRUCTURED-LOCATION;VALUE=URI;X-ADDRESS=HD SOUTH 10 S. Gilbert Road Gilbert AZ 85296 United States;X-APPLE-RADIUS=500;X-TITLE=10 S. Gilbert Road:geo:-111.7901119,33.3494006
END:VEVENT
END:VCALENDAR