BEGIN:VCALENDAR
VERSION:2.0
PRODID:-//HD SOUTH - Home Of The Gilbert Historical Museum - ECPv6.15.20//NONSGML v1.0//EN
CALSCALE:GREGORIAN
METHOD:PUBLISH
X-WR-CALNAME:HD SOUTH - Home Of The Gilbert Historical Museum
X-ORIGINAL-URL:https://hdsouth.org
X-WR-CALDESC:Events for HD SOUTH - Home Of The Gilbert Historical Museum
REFRESH-INTERVAL;VALUE=DURATION:PT1H
X-Robots-Tag:noindex
X-PUBLISHED-TTL:PT1H
BEGIN:VTIMEZONE
TZID:America/Phoenix
BEGIN:STANDARD
TZOFFSETFROM:-0700
TZOFFSETTO:-0700
TZNAME:MST
DTSTART:20240101T000000
END:STANDARD
END:VTIMEZONE
BEGIN:VEVENT
DTSTART;TZID=America/Phoenix:20250902T183000
DTEND;TZID=America/Phoenix:20250902T200000
DTSTAMP:20260422T031945
CREATED:20250729T215203Z
LAST-MODIFIED:20250729T215203Z
UID:10003948-1756837800-1756843200@hdsouth.org
SUMMARY:ART THERAPY
DESCRIPTION:Welcome back Michelle Simoneaux\, MA\, RN\, as she shares her expertise and the therapeutic value of art. Her journey in art began with sketching\, oil painting\, and sculpting before the age of 12. While raising her children she did crafting\, cake decorating\, and sewing. Michelle decided to go back to school and became a registered nurse. During this process she discovered scientific evidence of the therapeutic nature of creativity\, and as an RN encouraged art as therapy. There will be a presentation on the benefits of art therapy as well as artwork on display. \nRegistration is required.
URL:https://hdsouth.org/event/art-therapy/
LOCATION:HD SOUTH\, 10 S. Gilbert Road\, Gilbert\, AZ\, 85296\, United States
CATEGORIES:Health & Wellness,Programs
ATTACH;FMTTYPE=image/jpeg:https://hdsouth.org/wp-content/uploads/2024/07/art-therapy.jpg
GEO:33.3494006;-111.7901119
X-APPLE-STRUCTURED-LOCATION;VALUE=URI;X-ADDRESS=HD SOUTH 10 S. Gilbert Road Gilbert AZ 85296 United States;X-APPLE-RADIUS=500;X-TITLE=10 S. Gilbert Road:geo:-111.7901119,33.3494006
END:VEVENT
END:VCALENDAR