BEGIN:VCALENDAR
VERSION:2.0
PRODID:-//HD SOUTH - Home Of The Gilbert Historical Museum - ECPv6.15.20//NONSGML v1.0//EN
CALSCALE:GREGORIAN
METHOD:PUBLISH
X-ORIGINAL-URL:https://hdsouth.org
X-WR-CALDESC:Events for HD SOUTH - Home Of The Gilbert Historical Museum
REFRESH-INTERVAL;VALUE=DURATION:PT1H
X-Robots-Tag:noindex
X-PUBLISHED-TTL:PT1H
BEGIN:VTIMEZONE
TZID:America/Phoenix
BEGIN:STANDARD
TZOFFSETFROM:-0700
TZOFFSETTO:-0700
TZNAME:MST
DTSTART:20240101T000000
END:STANDARD
END:VTIMEZONE
BEGIN:VEVENT
DTSTART;TZID=America/Phoenix:20250909T183000
DTEND;TZID=America/Phoenix:20250909T200000
DTSTAMP:20260420T024849
CREATED:20250729T215712Z
LAST-MODIFIED:20250922T141553Z
UID:10003950-1757442600-1757448000@hdsouth.org
SUMMARY:HISTORY OF RAILROADS
DESCRIPTION:Ride the rails with historian David Doiron\, as he shares his knowledge of Arizona’s railway system using historical photographs\, artifacts\, and maps. Participants will be able to handle and examine relics of railroading including a piece of rail from the Gold Spike ceremony at Promontory. \nRegistration required
URL:https://hdsouth.org/event/history-of-railroads/
LOCATION:HD SOUTH\, 10 S. Gilbert Road\, Gilbert\, AZ\, 85296\, United States
CATEGORIES:History Cafés,Programs
GEO:33.3494006;-111.7901119
X-APPLE-STRUCTURED-LOCATION;VALUE=URI;X-ADDRESS=HD SOUTH 10 S. Gilbert Road Gilbert AZ 85296 United States;X-APPLE-RADIUS=500;X-TITLE=10 S. Gilbert Road:geo:-111.7901119,33.3494006
END:VEVENT
END:VCALENDAR