BEGIN:VCALENDAR
VERSION:2.0
PRODID:-//HD SOUTH - Home Of The Gilbert Historical Museum - ECPv6.15.20//NONSGML v1.0//EN
CALSCALE:GREGORIAN
METHOD:PUBLISH
X-WR-CALNAME:HD SOUTH - Home Of The Gilbert Historical Museum
X-ORIGINAL-URL:https://hdsouth.org
X-WR-CALDESC:Events for HD SOUTH - Home Of The Gilbert Historical Museum
REFRESH-INTERVAL;VALUE=DURATION:PT1H
X-Robots-Tag:noindex
X-PUBLISHED-TTL:PT1H
BEGIN:VTIMEZONE
TZID:America/Phoenix
BEGIN:STANDARD
TZOFFSETFROM:-0700
TZOFFSETTO:-0700
TZNAME:MST
DTSTART:20240101T000000
END:STANDARD
END:VTIMEZONE
BEGIN:VEVENT
DTSTART;TZID=America/Phoenix:20250913T100000
DTEND;TZID=America/Phoenix:20250913T120000
DTSTAMP:20260420T024902
CREATED:20250731T154143Z
LAST-MODIFIED:20250809T195140Z
UID:10003954-1757757600-1757764800@hdsouth.org
SUMMARY:ADVENTURES IN ART WITH GVAL
DESCRIPTION:Join us at HD SOUTH for this fun and interactive art workshop. Pam Hendricks\, a member of the Gilbert Visual Arts League (GVAL) will lead participants through a workshop teaching new artistic techniques. For this month’s art project\, enjoy a start to finish farmhouse style painting\, using layers of acrylic paint. Use inspiration\, photo\, and instructor rendering to choose to paint it YOUR WAY! \nRegistration is required.
URL:https://hdsouth.org/event/adventures-in-art-with-gval-8/
LOCATION:HD SOUTH\, 10 S. Gilbert Road\, Gilbert\, AZ\, 85296\, United States
CATEGORIES:Art Workshops,Programs
ATTACH;FMTTYPE=image/jpeg:https://hdsouth.org/wp-content/uploads/2025/07/Pam-Hendricks-Art-Project-Abandoned-House-in-acrylic.jpg
GEO:33.3494006;-111.7901119
X-APPLE-STRUCTURED-LOCATION;VALUE=URI;X-ADDRESS=HD SOUTH 10 S. Gilbert Road Gilbert AZ 85296 United States;X-APPLE-RADIUS=500;X-TITLE=10 S. Gilbert Road:geo:-111.7901119,33.3494006
END:VEVENT
END:VCALENDAR