BEGIN:VCALENDAR
VERSION:2.0
PRODID:-//HD SOUTH - Home Of The Gilbert Historical Museum - ECPv6.15.20//NONSGML v1.0//EN
CALSCALE:GREGORIAN
METHOD:PUBLISH
X-ORIGINAL-URL:https://hdsouth.org
X-WR-CALDESC:Events for HD SOUTH - Home Of The Gilbert Historical Museum
REFRESH-INTERVAL;VALUE=DURATION:PT1H
X-Robots-Tag:noindex
X-PUBLISHED-TTL:PT1H
BEGIN:VTIMEZONE
TZID:America/Phoenix
BEGIN:STANDARD
TZOFFSETFROM:-0700
TZOFFSETTO:-0700
TZNAME:MST
DTSTART:20240101T000000
END:STANDARD
END:VTIMEZONE
BEGIN:VEVENT
DTSTART;TZID=America/Phoenix:20250923T183000
DTEND;TZID=America/Phoenix:20250923T200000
DTSTAMP:20260420T024849
CREATED:20250818T162042Z
LAST-MODIFIED:20250902T192550Z
UID:10003960-1758652200-1758657600@hdsouth.org
SUMMARY:PAINT AND SIP
DESCRIPTION:Join locally acclaimed artist Peter Eobbi\, for a paint and sip night at the museum. Bring a friend and your favorite beverage and enjoy an evening of painting. During this workshop\, participants will be instructed on varying artistic techniques to make their own personal art projects. Be sure to bring your special someone for an evening of painting and fun.  All supplies provided. Registration is required. See the calendar for this month’s art project.
URL:https://hdsouth.org/event/paint-and-sip-15/
LOCATION:HD SOUTH\, 10 S. Gilbert Road\, Gilbert\, AZ\, 85296\, United States
CATEGORIES:Art Workshops,Programs
ATTACH;FMTTYPE=image/jpeg:https://hdsouth.org/wp-content/uploads/2025/08/Peter-Eobbi-PaintSipSept2025-scaled-e1756841040977.jpg
GEO:33.3494006;-111.7901119
X-APPLE-STRUCTURED-LOCATION;VALUE=URI;X-ADDRESS=HD SOUTH 10 S. Gilbert Road Gilbert AZ 85296 United States;X-APPLE-RADIUS=500;X-TITLE=10 S. Gilbert Road:geo:-111.7901119,33.3494006
END:VEVENT
END:VCALENDAR