BEGIN:VCALENDAR
VERSION:2.0
PRODID:-//HD SOUTH - Home Of The Gilbert Historical Museum - ECPv6.15.20//NONSGML v1.0//EN
CALSCALE:GREGORIAN
METHOD:PUBLISH
X-ORIGINAL-URL:https://hdsouth.org
X-WR-CALDESC:Events for HD SOUTH - Home Of The Gilbert Historical Museum
REFRESH-INTERVAL;VALUE=DURATION:PT1H
X-Robots-Tag:noindex
X-PUBLISHED-TTL:PT1H
BEGIN:VTIMEZONE
TZID:America/Phoenix
BEGIN:STANDARD
TZOFFSETFROM:-0700
TZOFFSETTO:-0700
TZNAME:MST
DTSTART:20240101T000000
END:STANDARD
END:VTIMEZONE
BEGIN:VEVENT
DTSTART;TZID=America/Phoenix:20251025T103000
DTEND;TZID=America/Phoenix:20251025T120000
DTSTAMP:20260420T041809
CREATED:20250827T170650Z
LAST-MODIFIED:20250902T193453Z
UID:10003972-1761388200-1761393600@hdsouth.org
SUMMARY:STEM SATURDAY
DESCRIPTION:Spend a Saturday morning at the museum conducting fun and exciting science experiments. Local teacher\, Erik Gillman\, will guide participants through a workshop that will allow them to carve their own wood art project using computer numerical control. Kids will create a design on a Chromebook using EASEL software and convert the design into GCODE which the engraver understands. Then set up the engraver to start the process. Ages 12 and up. Supplies are provided. Class size limited. \nRegistration is required.
URL:https://hdsouth.org/event/stem-saturday-31/
LOCATION:HD SOUTH\, 10 S. Gilbert Road\, Gilbert\, AZ\, 85296\, United States
CATEGORIES:Programs,Science Cafés
ATTACH;FMTTYPE=image/jpeg:https://hdsouth.org/wp-content/uploads/2021/04/STEM-e1617292079722.jpeg
GEO:33.3494006;-111.7901119
X-APPLE-STRUCTURED-LOCATION;VALUE=URI;X-ADDRESS=HD SOUTH 10 S. Gilbert Road Gilbert AZ 85296 United States;X-APPLE-RADIUS=500;X-TITLE=10 S. Gilbert Road:geo:-111.7901119,33.3494006
END:VEVENT
BEGIN:VEVENT
DTSTART;TZID=America/Phoenix:20251025T130000
DTEND;TZID=America/Phoenix:20251025T143000
DTSTAMP:20260420T041809
CREATED:20250827T171927Z
LAST-MODIFIED:20250915T150300Z
UID:10003973-1761397200-1761402600@hdsouth.org
SUMMARY:THE MAKING OF A CHILDREN’S BOOK
DESCRIPTION:Join local children’s picture book author-illustrator\, Jenifer Tull-Gauger\, for a book talk on the behind-the-scenes making of a children’s picture book. The author will show and tell about the adventure of creating her first children’s picture book\, The Can-Do Karate Kids: A Dojo Kun Character Book on Defeating Laziness & Procrastination\, from her character-building. Topics include inspiration\, tough decisions\, and the process that she went through to write and illustrate the book. Jenifer’s books are geared toward children ages 5 to 10. \nRegistration required. Ages 10 and up.
URL:https://hdsouth.org/event/the-making-of-a-childrens-book/
LOCATION:HD SOUTH\, 10 S. Gilbert Road\, Gilbert\, AZ\, 85296\, United States
CATEGORIES:Programs,Storyteller Programs
ATTACH;FMTTYPE=image/jpeg:https://hdsouth.org/wp-content/uploads/2023/09/the-can-do-karate-kid-a-dojo-kun-character-book-on-defeating-laziness-and-procrastination-reading-book-e1694539979153.jpg
GEO:33.3494006;-111.7901119
X-APPLE-STRUCTURED-LOCATION;VALUE=URI;X-ADDRESS=HD SOUTH 10 S. Gilbert Road Gilbert AZ 85296 United States;X-APPLE-RADIUS=500;X-TITLE=10 S. Gilbert Road:geo:-111.7901119,33.3494006
END:VEVENT
END:VCALENDAR