BEGIN:VCALENDAR
VERSION:2.0
PRODID:-//HD SOUTH - Home Of The Gilbert Historical Museum - ECPv6.15.20//NONSGML v1.0//EN
CALSCALE:GREGORIAN
METHOD:PUBLISH
X-ORIGINAL-URL:https://hdsouth.org
X-WR-CALDESC:Events for HD SOUTH - Home Of The Gilbert Historical Museum
REFRESH-INTERVAL;VALUE=DURATION:PT1H
X-Robots-Tag:noindex
X-PUBLISHED-TTL:PT1H
BEGIN:VTIMEZONE
TZID:America/Phoenix
BEGIN:STANDARD
TZOFFSETFROM:-0700
TZOFFSETTO:-0700
TZNAME:MST
DTSTART:20240101T000000
END:STANDARD
END:VTIMEZONE
BEGIN:VEVENT
DTSTART;TZID=America/Phoenix:20251027T190000
DTEND;TZID=America/Phoenix:20251027T200000
DTSTAMP:20260420T041807
CREATED:20250920T190806Z
LAST-MODIFIED:20251013T194931Z
UID:10003982-1761591600-1761595200@hdsouth.org
SUMMARY:LINE DANCING
DESCRIPTION:Welcome back Laina Lee for a FUN evening of Line Dance classes! Laina brings 30 years of training and experience to her classes\, providing an outstanding opportunity to learn from the best. This is a good time of year to get our bodies moving to the rhythm of great country\, Motown\, and oldies music. It’s the most fun you’ll have while exercising your body and brain too! Learn popular line dances such as Copperhead Road\, Cowboi Boogie\, Rita’s Waltz\, Old Time Rock n Roll\, All Shook Up and more. \nRegistration is required. Payment will be required when coming to the class \nCost: $60 per 6-week session or $12 drop-in. Laina takes Zelle and Venmo\, and you can sign-up with her upon your first class. \nVisit her site at www.Meetup.com/EastValleyKickers to learn more. \n  \n \nPayment must be received by Laina Lee for classes \n 
URL:https://hdsouth.org/event/line-dancing-5/
LOCATION:HD SOUTH\, 10 S. Gilbert Road\, Gilbert\, AZ\, 85296\, United States
CATEGORIES:Health & Wellness,Programs
ATTACH;FMTTYPE=image/png:https://hdsouth.org/wp-content/uploads/2023/06/Line-dancing-e1687287061626.png
GEO:33.3494006;-111.7901119
X-APPLE-STRUCTURED-LOCATION;VALUE=URI;X-ADDRESS=HD SOUTH 10 S. Gilbert Road Gilbert AZ 85296 United States;X-APPLE-RADIUS=500;X-TITLE=10 S. Gilbert Road:geo:-111.7901119,33.3494006
END:VEVENT
END:VCALENDAR