BEGIN:VCALENDAR
VERSION:2.0
PRODID:-//HD SOUTH - Home Of The Gilbert Historical Museum - ECPv6.15.20//NONSGML v1.0//EN
CALSCALE:GREGORIAN
METHOD:PUBLISH
X-WR-CALNAME:HD SOUTH - Home Of The Gilbert Historical Museum
X-ORIGINAL-URL:https://hdsouth.org
X-WR-CALDESC:Events for HD SOUTH - Home Of The Gilbert Historical Museum
REFRESH-INTERVAL;VALUE=DURATION:PT1H
X-Robots-Tag:noindex
X-PUBLISHED-TTL:PT1H
BEGIN:VTIMEZONE
TZID:America/Phoenix
BEGIN:STANDARD
TZOFFSETFROM:-0700
TZOFFSETTO:-0700
TZNAME:MST
DTSTART:20170101T000000
END:STANDARD
END:VTIMEZONE
BEGIN:VEVENT
DTSTART;TZID=America/Phoenix:20180925T100000
DTEND;TZID=America/Phoenix:20180925T103000
DTSTAMP:20260420T101359
CREATED:20180621T205044Z
LAST-MODIFIED:20180703T203144Z
UID:10003003-1537869600-1537871400@hdsouth.org
SUMMARY:Weekly Storytime
DESCRIPTION:Join museum volunteers for stories and activities. Ages 3 – 5. Free for adults and children!
URL:https://hdsouth.org/event/weekly-storytime-sept25/
LOCATION:Riparian Preserve at Water Ranch\, 2757 E Guadalupe Rd\, Gilbert\, AZ\, 85234\, United States
CATEGORIES:Programs,Storyteller Programs
ATTACH;FMTTYPE=image/jpeg:https://hdsouth.org/wp-content/uploads/2017/05/Reading.jpg
GEO:33.3639123;-111.7342994
X-APPLE-STRUCTURED-LOCATION;VALUE=URI;X-ADDRESS=Riparian Preserve at Water Ranch 2757 E Guadalupe Rd Gilbert AZ 85234 United States;X-APPLE-RADIUS=500;X-TITLE=2757 E Guadalupe Rd:geo:-111.7342994,33.3639123
END:VEVENT
BEGIN:VEVENT
DTSTART;TZID=America/Phoenix:20180925T180000
DTEND;TZID=America/Phoenix:20180925T193000
DTSTAMP:20260420T101359
CREATED:20180828T205328Z
LAST-MODIFIED:20180913T170539Z
UID:10003110-1537898400-1537903800@hdsouth.org
SUMMARY:Sustainable Gilbert Series- Water Sentinels Citizen Science Water Monitoring
DESCRIPTION:Jennifer Martin\, Grand Canyon Chapter of the Sierra Club Water Sentinel Coordinator will discuss how citizen science contributes to preserving riparian habitat and clean water for wildlife and people.
URL:https://hdsouth.org/event/sustainable-gilbert-series-water-sentinels-citizen-science-water-monitoring/
LOCATION:Riparian Preserve at Water Ranch\, 2757 E Guadalupe Rd\, Gilbert\, AZ\, 85234\, United States
CATEGORIES:Programs,Science Cafés
GEO:33.3639123;-111.7342994
X-APPLE-STRUCTURED-LOCATION;VALUE=URI;X-ADDRESS=Riparian Preserve at Water Ranch 2757 E Guadalupe Rd Gilbert AZ 85234 United States;X-APPLE-RADIUS=500;X-TITLE=2757 E Guadalupe Rd:geo:-111.7342994,33.3639123
END:VEVENT
END:VCALENDAR