BEGIN:VCALENDAR
VERSION:2.0
PRODID:-//HD SOUTH - Home Of The Gilbert Historical Museum - ECPv6.15.20//NONSGML v1.0//EN
CALSCALE:GREGORIAN
METHOD:PUBLISH
X-ORIGINAL-URL:https://hdsouth.org
X-WR-CALDESC:Events for HD SOUTH - Home Of The Gilbert Historical Museum
REFRESH-INTERVAL;VALUE=DURATION:PT1H
X-Robots-Tag:noindex
X-PUBLISHED-TTL:PT1H
BEGIN:VTIMEZONE
TZID:America/Phoenix
BEGIN:STANDARD
TZOFFSETFROM:-0700
TZOFFSETTO:-0700
TZNAME:MST
DTSTART:20170101T000000
END:STANDARD
END:VTIMEZONE
BEGIN:VEVENT
DTSTART;TZID=America/Phoenix:20181016T100000
DTEND;TZID=America/Phoenix:20181016T103000
DTSTAMP:20260420T024902
CREATED:20180621T205044Z
LAST-MODIFIED:20180703T204659Z
UID:10003006-1539684000-1539685800@hdsouth.org
SUMMARY:Weekly Storytime
DESCRIPTION:Join museum volunteers for stories and activities. Ages 3 – 5. Free for adults and children!
URL:https://hdsouth.org/event/weekly-storytime-oct16/
LOCATION:Riparian Preserve at Water Ranch\, 2757 E Guadalupe Rd\, Gilbert\, AZ\, 85234\, United States
CATEGORIES:Programs,Storyteller Programs
ATTACH;FMTTYPE=image/jpeg:https://hdsouth.org/wp-content/uploads/2017/05/Reading.jpg
GEO:33.3639123;-111.7342994
X-APPLE-STRUCTURED-LOCATION;VALUE=URI;X-ADDRESS=Riparian Preserve at Water Ranch 2757 E Guadalupe Rd Gilbert AZ 85234 United States;X-APPLE-RADIUS=500;X-TITLE=2757 E Guadalupe Rd:geo:-111.7342994,33.3639123
END:VEVENT
BEGIN:VEVENT
DTSTART;TZID=America/Phoenix:20181016T180000
DTEND;TZID=America/Phoenix:20181016T193000
DTSTAMP:20260420T024902
CREATED:20180808T161515Z
LAST-MODIFIED:20181010T170601Z
UID:10003102-1539712800-1539718200@hdsouth.org
SUMMARY:Sustainable Gilbert Series-Water Ways
DESCRIPTION:Paul Hirt\, Arizona State University professor in the School of Sustainability and Smithsonian/ Arizona Humanities Scholar will discuss the historical and cultural significance of water in Arizona. How has water shaped our history and tradition? How does it impact our daily life? How will the relationship between people and water evolve in the future?
URL:https://hdsouth.org/event/sustainable-gilbert-series-water-ways/
LOCATION:Riparian Preserve at Water Ranch\, 2757 E Guadalupe Rd\, Gilbert\, AZ\, 85234\, United States
CATEGORIES:Programs,Science Cafés
GEO:33.3639123;-111.7342994
X-APPLE-STRUCTURED-LOCATION;VALUE=URI;X-ADDRESS=Riparian Preserve at Water Ranch 2757 E Guadalupe Rd Gilbert AZ 85234 United States;X-APPLE-RADIUS=500;X-TITLE=2757 E Guadalupe Rd:geo:-111.7342994,33.3639123
END:VEVENT
END:VCALENDAR