BEGIN:VCALENDAR
VERSION:2.0
PRODID:-//HD SOUTH - Home Of The Gilbert Historical Museum - ECPv6.15.20//NONSGML v1.0//EN
CALSCALE:GREGORIAN
METHOD:PUBLISH
X-WR-CALNAME:HD SOUTH - Home Of The Gilbert Historical Museum
X-ORIGINAL-URL:https://hdsouth.org
X-WR-CALDESC:Events for HD SOUTH - Home Of The Gilbert Historical Museum
REFRESH-INTERVAL;VALUE=DURATION:PT1H
X-Robots-Tag:noindex
X-PUBLISHED-TTL:PT1H
BEGIN:VTIMEZONE
TZID:America/Phoenix
BEGIN:STANDARD
TZOFFSETFROM:-0700
TZOFFSETTO:-0700
TZNAME:MST
DTSTART:20180101T000000
END:STANDARD
END:VTIMEZONE
BEGIN:VEVENT
DTSTART;TZID=America/Phoenix:20190309T100000
DTEND;TZID=America/Phoenix:20190309T120000
DTSTAMP:20260420T011834
CREATED:20181219T201434Z
LAST-MODIFIED:20190308T160340Z
UID:10003123-1552125600-1552132800@hdsouth.org
SUMMARY:Irish Tin Penny Whistle Workshop
DESCRIPTION:THIS EVENT HAS BEEN CANCELED \nMake your own Irish Tim Penny Whistle! Before the workshop is over\, students will learn a simple song while discovering the basic physics of sound. Workshop is appropriate for students 6 years and up. \nRegistration is required.
URL:https://hdsouth.org/event/irish-tin-penny-whistle-workshop/
LOCATION:Riparian Preserve at Water Ranch\, 2757 E Guadalupe Rd\, Gilbert\, AZ\, 85234\, United States
CATEGORIES:Art Workshops,Music
ATTACH;FMTTYPE=image/png:https://hdsouth.org/wp-content/uploads/2018/12/flowing-notes-e1545248971244.png
GEO:33.3639123;-111.7342994
X-APPLE-STRUCTURED-LOCATION;VALUE=URI;X-ADDRESS=Riparian Preserve at Water Ranch 2757 E Guadalupe Rd Gilbert AZ 85234 United States;X-APPLE-RADIUS=500;X-TITLE=2757 E Guadalupe Rd:geo:-111.7342994,33.3639123
END:VEVENT
BEGIN:VEVENT
DTSTART;TZID=America/Phoenix:20190309T130000
DTEND;TZID=America/Phoenix:20190309T141500
DTSTAMP:20260420T011834
CREATED:20190224T164428Z
LAST-MODIFIED:20190225T145014Z
UID:10003177-1552136400-1552140900@hdsouth.org
SUMMARY:Rustic Water Tower Paint Class
DESCRIPTION:Come and learn how to paint the Gilbert Water Tower on wood! The class will paint their favorite Gilbert mascot on a beautiful sunset background for an hour at the museum. No prior paint skills are required and children 12 and up are welcome to join. Hang your piece on the entry way of your home or your patio. \nThis is NOT your average art class\, there will be delicious treats\, provided by Higher Grounds and Roastery and Cafe. Also there will be the opportunity to win prizes over the course of the hour! \nEach ticket Includes: \n\nAll materials: Paint\, “canvas”\, snacks and treats\, exclusive help from local muralist\, Dani Kahn.\nOne hour long paint class\n1 raffle ticket for a gift basket of $100 dollar value\nSubstantial treats and non-alcoholic drinks.\nYou will also have the opportunity to buy more raffle tickets during the class.\n\nAll proceed are going to HD SOUTH Gilbert Leadship Class 27 project. For more details on the project click here.
URL:https://hdsouth.org/event/rustic-water-tower-paint-class/
LOCATION:Riparian Preserve at Water Ranch\, 2757 E Guadalupe Rd\, Gilbert\, AZ\, 85234\, United States
CATEGORIES:Art Workshops
ATTACH;FMTTYPE=image/jpeg:https://hdsouth.org/wp-content/uploads/2019/02/Art-Workshop-Event-Image-IG-2-e1550959410452.jpg
GEO:33.3639123;-111.7342994
X-APPLE-STRUCTURED-LOCATION;VALUE=URI;X-ADDRESS=Riparian Preserve at Water Ranch 2757 E Guadalupe Rd Gilbert AZ 85234 United States;X-APPLE-RADIUS=500;X-TITLE=2757 E Guadalupe Rd:geo:-111.7342994,33.3639123
END:VEVENT
END:VCALENDAR