BEGIN:VCALENDAR
VERSION:2.0
PRODID:-//HD SOUTH - Home Of The Gilbert Historical Museum - ECPv6.15.20//NONSGML v1.0//EN
CALSCALE:GREGORIAN
METHOD:PUBLISH
X-WR-CALNAME:HD SOUTH - Home Of The Gilbert Historical Museum
X-ORIGINAL-URL:https://hdsouth.org
X-WR-CALDESC:Events for HD SOUTH - Home Of The Gilbert Historical Museum
REFRESH-INTERVAL;VALUE=DURATION:PT1H
X-Robots-Tag:noindex
X-PUBLISHED-TTL:PT1H
BEGIN:VTIMEZONE
TZID:America/Phoenix
BEGIN:STANDARD
TZOFFSETFROM:-0700
TZOFFSETTO:-0700
TZNAME:MST
DTSTART:20210101T000000
END:STANDARD
END:VTIMEZONE
BEGIN:VEVENT
DTSTART;TZID=America/Phoenix:20220709T103000
DTEND;TZID=America/Phoenix:20220709T120000
DTSTAMP:20260420T072852
CREATED:20220528T184630Z
LAST-MODIFIED:20220528T184630Z
UID:10003398-1657362600-1657368000@hdsouth.org
SUMMARY:STEM Saturday
DESCRIPTION:Spend a Saturday morning at the museum conducting fun and exciting science experiments. Local college professors and teachers will lead participants though science experiments that will allow kids to create their own snow fluff and playdough! Come ready to learn and explore the exciting side of science safely. All supplies will be provided. \nAges 6 & up. Registration is required.
URL:https://hdsouth.org/event/stem-saturday-6/
LOCATION:HD SOUTH\, 10 S. Gilbert Road\, Gilbert\, AZ\, 85296\, United States
CATEGORIES:Programs,Science Cafés
ATTACH;FMTTYPE=image/jpeg:https://hdsouth.org/wp-content/uploads/2022/03/tie-dye-e1646322349176.jpg
GEO:33.3494006;-111.7901119
X-APPLE-STRUCTURED-LOCATION;VALUE=URI;X-ADDRESS=HD SOUTH 10 S. Gilbert Road Gilbert AZ 85296 United States;X-APPLE-RADIUS=500;X-TITLE=10 S. Gilbert Road:geo:-111.7901119,33.3494006
END:VEVENT
END:VCALENDAR