BEGIN:VCALENDAR
VERSION:2.0
PRODID:-//HD SOUTH - Home Of The Gilbert Historical Museum - ECPv6.15.20//NONSGML v1.0//EN
CALSCALE:GREGORIAN
METHOD:PUBLISH
X-WR-CALNAME:HD SOUTH - Home Of The Gilbert Historical Museum
X-ORIGINAL-URL:https://hdsouth.org
X-WR-CALDESC:Events for HD SOUTH - Home Of The Gilbert Historical Museum
REFRESH-INTERVAL;VALUE=DURATION:PT1H
X-Robots-Tag:noindex
X-PUBLISHED-TTL:PT1H
BEGIN:VTIMEZONE
TZID:America/Phoenix
BEGIN:STANDARD
TZOFFSETFROM:-0700
TZOFFSETTO:-0700
TZNAME:MST
DTSTART:20240101T000000
END:STANDARD
END:VTIMEZONE
BEGIN:VEVENT
DTSTART;TZID=America/Phoenix:20250505T190000
DTEND;TZID=America/Phoenix:20250505T200000
DTSTAMP:20260423T183915
CREATED:20250327T212953Z
LAST-MODIFIED:20250327T212953Z
UID:10003878-1746471600-1746475200@hdsouth.org
SUMMARY:YOGA AT HD SOUTH
DESCRIPTION:Join HD SOUTH and Yoga’s Arc\, Amilia Lucie and Alyssa Schaeffer\, for an hour of yoga that will help relax participants while conditioning muscles. Enjoy the benefits of effective breathing\, improved flexibility\, and greater balance. This is an all-level yoga class for teens through adults. Please bring a yoga mat\, water\, and wear comfortable clothing. \nRegistration is required. Space limited.
URL:https://hdsouth.org/event/yoga-at-hd-south-18/
LOCATION:HD SOUTH\, 10 S. Gilbert Road\, Gilbert\, AZ\, 85296\, United States
CATEGORIES:Health & Wellness,Programs
ATTACH;FMTTYPE=image/png:https://hdsouth.org/wp-content/uploads/2017/12/Untitled-design.png
GEO:33.3494006;-111.7901119
X-APPLE-STRUCTURED-LOCATION;VALUE=URI;X-ADDRESS=HD SOUTH 10 S. Gilbert Road Gilbert AZ 85296 United States;X-APPLE-RADIUS=500;X-TITLE=10 S. Gilbert Road:geo:-111.7901119,33.3494006
END:VEVENT
BEGIN:VEVENT
DTSTART;TZID=America/Phoenix:20250512T190000
DTEND;TZID=America/Phoenix:20250512T200000
DTSTAMP:20260423T183915
CREATED:20250327T213159Z
LAST-MODIFIED:20250327T213159Z
UID:10003879-1747076400-1747080000@hdsouth.org
SUMMARY:YOGA AT HD SOUTH
DESCRIPTION:Join HD SOUTH and Yoga’s Arc\, Amilia Lucie and Alyssa Schaeffer\, for an hour of yoga that will help relax participants while conditioning muscles. Enjoy the benefits of effective breathing\, improved flexibility\, and greater balance. This is an all-level yoga class for teens through adults. Please bring a yoga mat\, water\, and wear comfortable clothing. \nRegistration is required. Space limited.
URL:https://hdsouth.org/event/yoga-at-hd-south-19/
LOCATION:HD SOUTH\, 10 S. Gilbert Road\, Gilbert\, AZ\, 85296\, United States
CATEGORIES:Health & Wellness,Programs
ATTACH;FMTTYPE=image/png:https://hdsouth.org/wp-content/uploads/2017/12/Untitled-design.png
GEO:33.3494006;-111.7901119
X-APPLE-STRUCTURED-LOCATION;VALUE=URI;X-ADDRESS=HD SOUTH 10 S. Gilbert Road Gilbert AZ 85296 United States;X-APPLE-RADIUS=500;X-TITLE=10 S. Gilbert Road:geo:-111.7901119,33.3494006
END:VEVENT
BEGIN:VEVENT
DTSTART;TZID=America/Phoenix:20250519T190000
DTEND;TZID=America/Phoenix:20250519T200000
DTSTAMP:20260423T183915
CREATED:20250327T213336Z
LAST-MODIFIED:20250327T213336Z
UID:10003880-1747681200-1747684800@hdsouth.org
SUMMARY:YOGA AT HD SOUTH
DESCRIPTION:Join HD SOUTH and Yoga’s Arc\, Amilia Lucie and Alyssa Schaeffer\, for an hour of yoga that will help relax participants while conditioning muscles. Enjoy the benefits of effective breathing\, improved flexibility\, and greater balance. This is an all-level yoga class for teens through adults. Please bring a yoga mat\, water\, and wear comfortable clothing. \nRegistration is required. Space limited.
URL:https://hdsouth.org/event/yoga-at-hd-south-20/
LOCATION:HD SOUTH\, 10 S. Gilbert Road\, Gilbert\, AZ\, 85296\, United States
CATEGORIES:Health & Wellness,Programs
ATTACH;FMTTYPE=image/png:https://hdsouth.org/wp-content/uploads/2017/12/Untitled-design.png
GEO:33.3494006;-111.7901119
X-APPLE-STRUCTURED-LOCATION;VALUE=URI;X-ADDRESS=HD SOUTH 10 S. Gilbert Road Gilbert AZ 85296 United States;X-APPLE-RADIUS=500;X-TITLE=10 S. Gilbert Road:geo:-111.7901119,33.3494006
END:VEVENT
BEGIN:VEVENT
DTSTART;TZID=America/Phoenix:20250527T183000
DTEND;TZID=America/Phoenix:20250527T193000
DTSTAMP:20260423T183915
CREATED:20250327T220215Z
LAST-MODIFIED:20250327T220215Z
UID:10003889-1748370600-1748374200@hdsouth.org
SUMMARY:SOUND MEDITATION FOR GRIEF
DESCRIPTION:Join Stuart Preston\, a certified Sound Practitioner\, for a deeply empathetic Sound Meditation session designed for those grappling with deep grief and loss. Bring a yoga mat\, blankets\, and a pillow to create your own personal sanctuary. Dress comfortability and arrive 10 minutes early. Age 16 years and up. \nRegistration is required.
URL:https://hdsouth.org/event/sound-meditation-for-grief-21/
LOCATION:HD SOUTH\, 10 S. Gilbert Road\, Gilbert\, AZ\, 85296\, United States
CATEGORIES:Health & Wellness,Programs
ATTACH;FMTTYPE=image/jpeg:https://hdsouth.org/wp-content/uploads/2023/01/soundmed-e1674936948739.jpg
GEO:33.3494006;-111.7901119
X-APPLE-STRUCTURED-LOCATION;VALUE=URI;X-ADDRESS=HD SOUTH 10 S. Gilbert Road Gilbert AZ 85296 United States;X-APPLE-RADIUS=500;X-TITLE=10 S. Gilbert Road:geo:-111.7901119,33.3494006
END:VEVENT
END:VCALENDAR