BEGIN:VCALENDAR
VERSION:2.0
PRODID:-//HD SOUTH - Home Of The Gilbert Historical Museum - ECPv6.15.20//NONSGML v1.0//EN
CALSCALE:GREGORIAN
METHOD:PUBLISH
X-WR-CALNAME:HD SOUTH - Home Of The Gilbert Historical Museum
X-ORIGINAL-URL:https://hdsouth.org
X-WR-CALDESC:Events for HD SOUTH - Home Of The Gilbert Historical Museum
REFRESH-INTERVAL;VALUE=DURATION:PT1H
X-Robots-Tag:noindex
X-PUBLISHED-TTL:PT1H
BEGIN:VTIMEZONE
TZID:America/Phoenix
BEGIN:STANDARD
TZOFFSETFROM:-0700
TZOFFSETTO:-0700
TZNAME:MST
DTSTART:20250101T000000
END:STANDARD
END:VTIMEZONE
BEGIN:VEVENT
DTSTART;TZID=America/Phoenix:20260504T190000
DTEND;TZID=America/Phoenix:20260504T200000
DTSTAMP:20260423T042822
CREATED:20260402T194755Z
LAST-MODIFIED:20260402T194755Z
UID:10004088-1777921200-1777924800@hdsouth.org
SUMMARY:LINE DANCING
DESCRIPTION:Welcome local instructor Jennifer Sherman as she shares her love of music and dance with line dancing instruction. Come join the fun with upbeat music and line-dancing steps that will boost your energy levels and enliven the spirit. Jennifer has over 20 years of experience in education and has expanded her work to include movement-based teaching. Attendance limited. \nRegistration required. Cost: $12 (to be paid using cash or Venmo at the beginning of class).
URL:https://hdsouth.org/event/line-dancing-11/
LOCATION:HD SOUTH\, 10 S. Gilbert Road\, Gilbert\, AZ\, 85296\, United States
CATEGORIES:Health & Wellness,Programs
ATTACH;FMTTYPE=image/png:https://hdsouth.org/wp-content/uploads/2023/06/Line-dancing-e1687287061626.png
GEO:33.3494006;-111.7901119
X-APPLE-STRUCTURED-LOCATION;VALUE=URI;X-ADDRESS=HD SOUTH 10 S. Gilbert Road Gilbert AZ 85296 United States;X-APPLE-RADIUS=500;X-TITLE=10 S. Gilbert Road:geo:-111.7901119,33.3494006
END:VEVENT
BEGIN:VEVENT
DTSTART;TZID=America/Phoenix:20260512T183000
DTEND;TZID=America/Phoenix:20260512T193000
DTSTAMP:20260423T042822
CREATED:20260402T195123Z
LAST-MODIFIED:20260402T195123Z
UID:10004090-1778610600-1778614200@hdsouth.org
SUMMARY:SELF DEFENSE FOR CHILDREN AND ADULTS
DESCRIPTION:Kids ages seven and older\, teens\, and adults are invited to join certified black belt instructors from East Valley Martial Arts to learn and brush-up on self-defense. Instructors are caring professionals experienced at teaching both kids and adults the life protection arts. Physical techniques for protecting oneself will be covered\, as well as “street smarts” and prevention of incidents. Children ages 7 to 12 must have a parent or guardian present with them. Parents/guardians are welcome to join the class\, or to sit quietly and observe from the sidelines. Safety is always a priority\, and we recommend wearing loose\, comfortable clothing. \nRegistration required. Cost: FREE
URL:https://hdsouth.org/event/self-defense-for-children-and-adults-9/
LOCATION:HD SOUTH\, 10 S. Gilbert Road\, Gilbert\, AZ\, 85296\, United States
CATEGORIES:Health & Wellness,Programs
ATTACH;FMTTYPE=image/jpeg:https://hdsouth.org/wp-content/uploads/2025/07/SELF-DEFENSE.jpg
GEO:33.3494006;-111.7901119
X-APPLE-STRUCTURED-LOCATION;VALUE=URI;X-ADDRESS=HD SOUTH 10 S. Gilbert Road Gilbert AZ 85296 United States;X-APPLE-RADIUS=500;X-TITLE=10 S. Gilbert Road:geo:-111.7901119,33.3494006
END:VEVENT
BEGIN:VEVENT
DTSTART;TZID=America/Phoenix:20260516T103000
DTEND;TZID=America/Phoenix:20260516T120000
DTSTAMP:20260423T042822
CREATED:20260402T200237Z
LAST-MODIFIED:20260421T212115Z
UID:10004092-1778927400-1778932800@hdsouth.org
SUMMARY:ART OF IMAGINATION
DESCRIPTION:Join HD SOUTH and Debra McVay M. Ed.\, for this unique art workshop. Children are guided through a calming visualization that encourages relaxation\, imagination\, and self-expression. After the guided journey\, they’ll paint what they visualized\, turning their inner world into meaningful artwork. Visualization helps children build focus\, reduce stress\, and boost creativity and imagination while having fun and expressing themselves through art. Parents are invited to attend this special art class with their children. Ages 9—13. Children must be accompanied by an adult. \nRegistration required. Cost: FREE
URL:https://hdsouth.org/event/art-of-imagination-4/
LOCATION:HD SOUTH\, 10 S. Gilbert Road\, Gilbert\, AZ\, 85296\, United States
CATEGORIES:Art Workshops,Health & Wellness,Programs
ATTACH;FMTTYPE=image/jpeg:https://hdsouth.org/wp-content/uploads/2025/05/Imagination-e1746285362928.jpg
GEO:33.3494006;-111.7901119
X-APPLE-STRUCTURED-LOCATION;VALUE=URI;X-ADDRESS=HD SOUTH 10 S. Gilbert Road Gilbert AZ 85296 United States;X-APPLE-RADIUS=500;X-TITLE=10 S. Gilbert Road:geo:-111.7901119,33.3494006
END:VEVENT
BEGIN:VEVENT
DTSTART;TZID=America/Phoenix:20260520T183000
DTEND;TZID=America/Phoenix:20260520T193000
DTSTAMP:20260423T042822
CREATED:20260402T200732Z
LAST-MODIFIED:20260402T200732Z
UID:10004094-1779301800-1779305400@hdsouth.org
SUMMARY:TAOIST TAI CHI
DESCRIPTION:Improve Balance ~ Maintain Health ~ Strengthen Focus – Welcome Janice Motoike with TTCSUSA as she shares this unique health and wellness program where attendees will have the opportunity to learn about Taoist Tai Chi arts using some of the 108 movements in their unique set. Experience how a regular tai chi practice provides a positive impact on body\, mind\, and spirit. Whether you are looking to reduce stress\, maintain health\, or find deeper meaning\, Taoist Tai Chi arts can help at every stage of life. Ages 14 and up. Attendance limited. \nRegistration required
URL:https://hdsouth.org/event/taoist-tai-chi-3/
LOCATION:HD SOUTH\, 10 S. Gilbert Road\, Gilbert\, AZ\, 85296\, United States
CATEGORIES:Health & Wellness,Programs
ATTACH;FMTTYPE=image/jpeg:https://hdsouth.org/wp-content/uploads/2026/01/TAI-CHI.jpg
GEO:33.3494006;-111.7901119
X-APPLE-STRUCTURED-LOCATION;VALUE=URI;X-ADDRESS=HD SOUTH 10 S. Gilbert Road Gilbert AZ 85296 United States;X-APPLE-RADIUS=500;X-TITLE=10 S. Gilbert Road:geo:-111.7901119,33.3494006
END:VEVENT
BEGIN:VEVENT
DTSTART;TZID=America/Phoenix:20260526T183000
DTEND;TZID=America/Phoenix:20260526T193000
DTSTAMP:20260423T042822
CREATED:20260402T201013Z
LAST-MODIFIED:20260402T201013Z
UID:10004095-1779820200-1779823800@hdsouth.org
SUMMARY:SOUND MEDITATION FOR GRIEF
DESCRIPTION:Join Stuart Preston\, a certified Sound Practitioner\, for a deeply empathetic Sound Meditation Session designed for those grappling with loss. It’s not about moving on but finding moments of peace and clarity amidst sorrow. Bring a yoga mat\, blankets\, and a pillow to create your personal sanctuary. Dress comfortably and arrive 10 minutes early. Registration is required. Ages 16 & up. \nLearn more about Stuart and this unique practice at www.LaoStu.com.
URL:https://hdsouth.org/event/sound-meditation-for-grief-31/
LOCATION:HD SOUTH\, 10 S. Gilbert Road\, Gilbert\, AZ\, 85296\, United States
CATEGORIES:Health & Wellness,Programs
ATTACH;FMTTYPE=image/jpeg:https://hdsouth.org/wp-content/uploads/2023/01/soundmed-e1674936948739.jpg
GEO:33.3494006;-111.7901119
X-APPLE-STRUCTURED-LOCATION;VALUE=URI;X-ADDRESS=HD SOUTH 10 S. Gilbert Road Gilbert AZ 85296 United States;X-APPLE-RADIUS=500;X-TITLE=10 S. Gilbert Road:geo:-111.7901119,33.3494006
END:VEVENT
END:VCALENDAR