BEGIN:VCALENDAR
VERSION:2.0
PRODID:-//HD SOUTH - Home Of The Gilbert Historical Museum - ECPv6.15.20//NONSGML v1.0//EN
CALSCALE:GREGORIAN
METHOD:PUBLISH
X-WR-CALNAME:HD SOUTH - Home Of The Gilbert Historical Museum
X-ORIGINAL-URL:https://hdsouth.org
X-WR-CALDESC:Events for HD SOUTH - Home Of The Gilbert Historical Museum
REFRESH-INTERVAL;VALUE=DURATION:PT1H
X-Robots-Tag:noindex
X-PUBLISHED-TTL:PT1H
BEGIN:VTIMEZONE
TZID:America/Phoenix
BEGIN:STANDARD
TZOFFSETFROM:-0700
TZOFFSETTO:-0700
TZNAME:MST
DTSTART:20250101T000000
END:STANDARD
END:VTIMEZONE
BEGIN:VEVENT
DTSTART;TZID=America/Phoenix:20260224T183000
DTEND;TZID=America/Phoenix:20260224T193000
DTSTAMP:20260423T101757
CREATED:20251222T162750Z
LAST-MODIFIED:20251222T162750Z
UID:10004045-1771957800-1771961400@hdsouth.org
SUMMARY:SOUND MEDITATION FOR GRIEF
DESCRIPTION:Join Stuart Preston\, a certified Sound Practitioner\, for a deeply empathetic Sound Meditation session designed for those grappling with loss.  It’s not about moving on but finding moments of peace and clarity amidst sorrow.  Bring a yoga mat\, blankets\, and a pillow to create your personal sanctuary.  Dress comfortably and arrive 10 minutes early.  Learn more about Stuart and this unique practice at www.laostu.com. \nRegistration is required.  Space is limited.  Ages 16 & up. \n  \nNo refunds for registration fees will be given unless the class/program is cancelled by HD SOUTH staff.  In the event a class/program is cancelled\, please allow 3-4 weeks to receive your refund.  Refunds will be issued via check.
URL:https://hdsouth.org/event/sound-meditation-for-grief-30/
LOCATION:HD SOUTH\, 10 S. Gilbert Road\, Gilbert\, AZ\, 85296\, United States
CATEGORIES:Health & Wellness,Programs
ATTACH;FMTTYPE=image/jpeg:https://hdsouth.org/wp-content/uploads/2023/01/soundmed-e1674936948739.jpg
GEO:33.3494006;-111.7901119
X-APPLE-STRUCTURED-LOCATION;VALUE=URI;X-ADDRESS=HD SOUTH 10 S. Gilbert Road Gilbert AZ 85296 United States;X-APPLE-RADIUS=500;X-TITLE=10 S. Gilbert Road:geo:-111.7901119,33.3494006
END:VEVENT
END:VCALENDAR