BEGIN:VCALENDAR
VERSION:2.0
PRODID:-//HD SOUTH - Home Of The Gilbert Historical Museum - ECPv6.15.20//NONSGML v1.0//EN
CALSCALE:GREGORIAN
METHOD:PUBLISH
X-WR-CALNAME:HD SOUTH - Home Of The Gilbert Historical Museum
X-ORIGINAL-URL:https://hdsouth.org
X-WR-CALDESC:Events for HD SOUTH - Home Of The Gilbert Historical Museum
REFRESH-INTERVAL;VALUE=DURATION:PT1H
X-Robots-Tag:noindex
X-PUBLISHED-TTL:PT1H
BEGIN:VTIMEZONE
TZID:America/Phoenix
BEGIN:STANDARD
TZOFFSETFROM:-0700
TZOFFSETTO:-0700
TZNAME:MST
DTSTART:20250101T000000
END:STANDARD
END:VTIMEZONE
BEGIN:VEVENT
DTSTART;TZID=America/Phoenix:20260514T183000
DTEND;TZID=America/Phoenix:20260514T200000
DTSTAMP:20260420T041518
CREATED:20260402T195724Z
LAST-MODIFIED:20260402T195724Z
UID:10004091-1778783400-1778788800@hdsouth.org
SUMMARY:FAMILY HISTORY RESEARCH: USING ANCESTRY.COM
DESCRIPTION:Join ASU professor emeritus Duane Roen\, founding coordinator for the Project for Writing and Recording Family History in the College of Integrative Science and Arts\, for this unique family history workshop. Learn general application skills using Ancestry.com and its’ unique database for researching ancestors. Please bring paper and pen or a laptop. \nAges 14 and up. Registration required.
URL:https://hdsouth.org/event/family-history-research-using-ancestry-com/
LOCATION:HD SOUTH\, 10 S. Gilbert Road\, Gilbert\, AZ\, 85296\, United States
CATEGORIES:History Cafés,Programs
ATTACH;FMTTYPE=image/jpeg:https://hdsouth.org/wp-content/uploads/2026/04/ancestry-e1775159827399.jpg
GEO:33.3494006;-111.7901119
X-APPLE-STRUCTURED-LOCATION;VALUE=URI;X-ADDRESS=HD SOUTH 10 S. Gilbert Road Gilbert AZ 85296 United States;X-APPLE-RADIUS=500;X-TITLE=10 S. Gilbert Road:geo:-111.7901119,33.3494006
END:VEVENT
END:VCALENDAR