BEGIN:VCALENDAR
VERSION:2.0
PRODID:-//HD SOUTH - Home Of The Gilbert Historical Museum - ECPv6.15.20//NONSGML v1.0//EN
CALSCALE:GREGORIAN
METHOD:PUBLISH
X-WR-CALNAME:HD SOUTH - Home Of The Gilbert Historical Museum
X-ORIGINAL-URL:https://hdsouth.org
X-WR-CALDESC:Events for HD SOUTH - Home Of The Gilbert Historical Museum
REFRESH-INTERVAL;VALUE=DURATION:PT1H
X-Robots-Tag:noindex
X-PUBLISHED-TTL:PT1H
BEGIN:VTIMEZONE
TZID:America/Phoenix
BEGIN:STANDARD
TZOFFSETFROM:-0700
TZOFFSETTO:-0700
TZNAME:MST
DTSTART:20250101T000000
END:STANDARD
END:VTIMEZONE
BEGIN:VEVENT
DTSTART;TZID=America/Phoenix:20260117T103000
DTEND;TZID=America/Phoenix:20260117T120000
DTSTAMP:20260421T144614
CREATED:20251126T211420Z
LAST-MODIFIED:20251203T194731Z
UID:10004028-1768645800-1768651200@hdsouth.org
SUMMARY:STEM SATURDAY-THE ARDUINO POWERED DRAGSTER
DESCRIPTION:Spend a Saturday morning at the museum conducting fun and exciting science experiments with local teacher Erik Gillman. In this class\, students will build and program a dragster powered by an Arduino microcontroller. They will learn how to connect various components to the Arduino and then write a program to control the car. Supplies are provided. The cost of the class will allow participants to keep their completed dragster\, including the Arduino and all the components. Class size limited. Ages 12-16. \nRegistration is required. Cost: $35 \n  \nNo refunds for registration fees will be given unless the class/program is cancelled by HD SOUTH staff.  In the event a class/program is cancelled\, please allow 3-4 weeks to receive your refund.  Refunds will be issued via check.
URL:https://hdsouth.org/event/stem-saturday-the-arduino-powered-dragster/
LOCATION:HD SOUTH\, 10 S. Gilbert Road\, Gilbert\, AZ\, 85296\, United States
CATEGORIES:Programs,Science Cafés
ATTACH;FMTTYPE=image/jpeg:https://hdsouth.org/wp-content/uploads/2021/04/STEM-e1617292079722.jpeg
GEO:33.3494006;-111.7901119
X-APPLE-STRUCTURED-LOCATION;VALUE=URI;X-ADDRESS=HD SOUTH 10 S. Gilbert Road Gilbert AZ 85296 United States;X-APPLE-RADIUS=500;X-TITLE=10 S. Gilbert Road:geo:-111.7901119,33.3494006
END:VEVENT
BEGIN:VEVENT
DTSTART;TZID=America/Phoenix:20260128T190000
DTEND;TZID=America/Phoenix:20260128T200000
DTSTAMP:20260421T144614
CREATED:20251126T211807Z
LAST-MODIFIED:20260126T210634Z
UID:10004030-1769626800-1769630400@hdsouth.org
SUMMARY:PARTY IN THE STARS
DESCRIPTION:The East Valley Astronomy Club (EVAC) is a group of more than 100 astronomy enthusiasts which began in 1987 and includes members from all over the Valley. Join EVAC and HD SOUTH for a Star Party where attendees will learn about the cosmos and be able to view celestial bodies in our galaxy! This event takes place at the Observatory at the Riparian Preserve. Registration is required. \n~donations for EVAC are accepted at the observatory~\n 
URL:https://hdsouth.org/event/party-in-the-stars-15/
LOCATION:HD SOUTH\, 10 S. Gilbert Road\, Gilbert\, AZ\, 85296\, United States
CATEGORIES:Programs,Science Cafés
ATTACH;FMTTYPE=image/jpeg:https://hdsouth.org/wp-content/uploads/2022/11/stars-e1667494779244.jpg
GEO:33.3494006;-111.7901119
X-APPLE-STRUCTURED-LOCATION;VALUE=URI;X-ADDRESS=HD SOUTH 10 S. Gilbert Road Gilbert AZ 85296 United States;X-APPLE-RADIUS=500;X-TITLE=10 S. Gilbert Road:geo:-111.7901119,33.3494006
END:VEVENT
BEGIN:VEVENT
DTSTART;TZID=America/Phoenix:20260131T130000
DTEND;TZID=America/Phoenix:20260131T143000
DTSTAMP:20260421T144614
CREATED:20251126T212934Z
LAST-MODIFIED:20251126T212934Z
UID:10004034-1769864400-1769869800@hdsouth.org
SUMMARY:STEM SATURDAY
DESCRIPTION:Have fun at the museum on Saturday afternoons with AP teacher Karen Maas\, from the Gilbert Classical Academy\, and her STEM students as they share a STEM learning adventure with participants. GCA students will introduce a variety of activities\, including 3D printing with both 3D pens and printers\, CAD applications using Tinkercad\, Makey Makey apps with fruit\, and more! \nRegistration is required. Registration will close at 12pm on Friday.
URL:https://hdsouth.org/event/stem-saturday-33/
LOCATION:HD SOUTH\, 10 S. Gilbert Road\, Gilbert\, AZ\, 85296\, United States
CATEGORIES:Programs,Science Cafés
ATTACH;FMTTYPE=image/jpeg:https://hdsouth.org/wp-content/uploads/2021/04/STEM-e1617292079722.jpeg
GEO:33.3494006;-111.7901119
X-APPLE-STRUCTURED-LOCATION;VALUE=URI;X-ADDRESS=HD SOUTH 10 S. Gilbert Road Gilbert AZ 85296 United States;X-APPLE-RADIUS=500;X-TITLE=10 S. Gilbert Road:geo:-111.7901119,33.3494006
END:VEVENT
END:VCALENDAR