BEGIN:VCALENDAR
VERSION:2.0
PRODID:-//HD SOUTH - Home Of The Gilbert Historical Museum - ECPv6.15.20//NONSGML v1.0//EN
CALSCALE:GREGORIAN
METHOD:PUBLISH
X-WR-CALNAME:HD SOUTH - Home Of The Gilbert Historical Museum
X-ORIGINAL-URL:https://hdsouth.org
X-WR-CALDESC:Events for HD SOUTH - Home Of The Gilbert Historical Museum
REFRESH-INTERVAL;VALUE=DURATION:PT1H
X-Robots-Tag:noindex
X-PUBLISHED-TTL:PT1H
BEGIN:VTIMEZONE
TZID:America/Phoenix
BEGIN:STANDARD
TZOFFSETFROM:-0700
TZOFFSETTO:-0700
TZNAME:MST
DTSTART:20210101T000000
END:STANDARD
END:VTIMEZONE
BEGIN:VEVENT
DTSTART;VALUE=DATE:20220301
DTEND;VALUE=DATE:20220302
DTSTAMP:20260421T115540
CREATED:20220111T184318Z
LAST-MODIFIED:20220111T184528Z
UID:10003352-1646092800-1646179199@hdsouth.org
SUMMARY:17th Annual “The Art of Quilting” Quilt Show
DESCRIPTION:HD SOUTH\, Home of the Gilbert Historical Museum\, invites you to the 17th Annual “Art of Quilting” Show with a special exhibit from the American Quilt Study Group which will include more than 25 Framed Center/Medallion quilts.  The “Art of Quilting” show will run from March 1 to May 30\, 2022.
URL:https://hdsouth.org/event/17th-annual-the-art-of-quilting-quilt-show/
LOCATION:HD SOUTH\, 10 S. Gilbert Road\, Gilbert\, AZ\, 85296\, United States
CATEGORIES:Events
ATTACH;FMTTYPE=image/jpeg:https://hdsouth.org/wp-content/uploads/2017/05/Quilt-Show.jpg
GEO:33.3494006;-111.7901119
X-APPLE-STRUCTURED-LOCATION;VALUE=URI;X-ADDRESS=HD SOUTH 10 S. Gilbert Road Gilbert AZ 85296 United States;X-APPLE-RADIUS=500;X-TITLE=10 S. Gilbert Road:geo:-111.7901119,33.3494006
END:VEVENT
BEGIN:VEVENT
DTSTART;TZID=America/Phoenix:20220307T183000
DTEND;TZID=America/Phoenix:20220307T193000
DTSTAMP:20260421T115540
CREATED:20220212T191128Z
LAST-MODIFIED:20220212T191128Z
UID:10003356-1646677800-1646681400@hdsouth.org
SUMMARY:Monday Yoga with Ginger
DESCRIPTION:Have a case of the Mondays? Join instructor Ginger Smith as she guides the class on relaxation techniques and muscle conditioning. Ginger is a certified yoga and group fitness instructor\, and her training includes restorative & yin flow\, yoga & weights\, and chair yoga. Her classes incorporate movement\, breathing\, and emotional balance. \nOpen to all levels. Bring your own mat. \nAges 16 & up. \nRegistration is required. \nMasks Recommended
URL:https://hdsouth.org/event/monday-yoga-with-ginger-27/
LOCATION:HD SOUTH\, 10 S. Gilbert Road\, Gilbert\, AZ\, 85296\, United States
CATEGORIES:Health & Wellness
ATTACH;FMTTYPE=image/png:https://hdsouth.org/wp-content/uploads/2017/12/Untitled-design.png
GEO:33.3494006;-111.7901119
X-APPLE-STRUCTURED-LOCATION;VALUE=URI;X-ADDRESS=HD SOUTH 10 S. Gilbert Road Gilbert AZ 85296 United States;X-APPLE-RADIUS=500;X-TITLE=10 S. Gilbert Road:geo:-111.7901119,33.3494006
END:VEVENT
BEGIN:VEVENT
DTSTART;TZID=America/Phoenix:20220308T183000
DTEND;TZID=America/Phoenix:20220308T200000
DTSTAMP:20260421T115540
CREATED:20220215T173238Z
LAST-MODIFIED:20220215T173238Z
UID:10003360-1646764200-1646769600@hdsouth.org
SUMMARY:Future Water Supplies for Central and Southern Arizona
DESCRIPTION:Jennifer Brown\, Central Arizona Project board member\, will discuss Arizona’s future water supplies and highlight the Colorado River and its impact on Arizona. Central Arizona Project (CAP) is Arizona’s single largest resource for renewable water supplies. CAP is designed to bring about 1.5 million acre-feet of water from the Colorado River to Central and Southern Arizona every year. So\, take some time to KNOW YOUR WATER and join us for this very timely program. \nRegistration is required. \nMasks Recommended
URL:https://hdsouth.org/event/future-water-supplies-for-central-and-southern-arizona/
LOCATION:HD SOUTH\, 10 S. Gilbert Road\, Gilbert\, AZ\, 85296\, United States
CATEGORIES:Science Cafés
ATTACH;FMTTYPE=image/jpeg:https://hdsouth.org/wp-content/uploads/2022/02/CAP-e1644946328773.jpeg
GEO:33.3494006;-111.7901119
X-APPLE-STRUCTURED-LOCATION;VALUE=URI;X-ADDRESS=HD SOUTH 10 S. Gilbert Road Gilbert AZ 85296 United States;X-APPLE-RADIUS=500;X-TITLE=10 S. Gilbert Road:geo:-111.7901119,33.3494006
END:VEVENT
BEGIN:VEVENT
DTSTART;TZID=America/Phoenix:20220310T190000
DTEND;TZID=America/Phoenix:20220310T200000
DTSTAMP:20260421T115540
CREATED:20220215T191608Z
LAST-MODIFIED:20220215T192022Z
UID:10003361-1646938800-1646942400@hdsouth.org
SUMMARY:Thursday Yoga
DESCRIPTION:Join Marilynn Igleski\, certified yoga instructor\, for an hour of yoga that will help relax participants while conditioning muscles. Open to participants of all levels of yoga experience. Please bring your own yoga mat and water. Open to teens through adults. \nFREE per session for HD SOUTH members\n$5 per session for non-members \nMasks Recommended
URL:https://hdsouth.org/event/thursday-yoga-6/
LOCATION:HD SOUTH\, 10 S. Gilbert Road\, Gilbert\, AZ\, 85296\, United States
CATEGORIES:Health & Wellness
ATTACH;FMTTYPE=image/png:https://hdsouth.org/wp-content/uploads/2017/12/Untitled-design.png
GEO:33.3494006;-111.7901119
X-APPLE-STRUCTURED-LOCATION;VALUE=URI;X-ADDRESS=HD SOUTH 10 S. Gilbert Road Gilbert AZ 85296 United States;X-APPLE-RADIUS=500;X-TITLE=10 S. Gilbert Road:geo:-111.7901119,33.3494006
END:VEVENT
BEGIN:VEVENT
DTSTART;TZID=America/Phoenix:20220312T103000
DTEND;TZID=America/Phoenix:20220312T120000
DTSTAMP:20260421T115540
CREATED:20220303T184510Z
LAST-MODIFIED:20220303T212505Z
UID:10003376-1647081000-1647086400@hdsouth.org
SUMMARY:20 Minute Meals with Kelly Church
DESCRIPTION:No time to cook? Tired of the same meals? Getting a lot of take out? Come join HD SOUTH and Kelly Church for to 20 Minute Meals cooking class where you will get to see one of these meals in action and leave with multiple options for fast dinners that can be made from start to finish in 20 minutes or less!
URL:https://hdsouth.org/event/20-minute-meals-with-kelly-church/
LOCATION:HD SOUTH\, 10 S. Gilbert Road\, Gilbert\, AZ\, 85296\, United States
CATEGORIES:Health & Wellness,Programs
ATTACH;FMTTYPE=image/jpeg:https://hdsouth.org/wp-content/uploads/2022/03/20min-meals-e1646333083311.jpg
GEO:33.3494006;-111.7901119
X-APPLE-STRUCTURED-LOCATION;VALUE=URI;X-ADDRESS=HD SOUTH 10 S. Gilbert Road Gilbert AZ 85296 United States;X-APPLE-RADIUS=500;X-TITLE=10 S. Gilbert Road:geo:-111.7901119,33.3494006
END:VEVENT
BEGIN:VEVENT
DTSTART;TZID=America/Phoenix:20220314T183000
DTEND;TZID=America/Phoenix:20220314T193000
DTSTAMP:20260421T115540
CREATED:20220212T194018Z
LAST-MODIFIED:20220212T194018Z
UID:10003357-1647282600-1647286200@hdsouth.org
SUMMARY:Monday Yoga with Ginger
DESCRIPTION:Have a case of the Mondays? Join instructor Ginger Smith as she guides the class on relaxation techniques and muscle conditioning. Ginger is a certified yoga and group fitness instructor\, and her training includes restorative & yin flow\, yoga & weights\, and chair yoga. Her classes incorporate movement\, breathing\, and emotional balance. \nOpen to all levels. Bring your own mat. \nAges 16 & up. \nRegistration is required. \nMasks Recommended
URL:https://hdsouth.org/event/monday-yoga-with-ginger-28/
LOCATION:HD SOUTH\, 10 S. Gilbert Road\, Gilbert\, AZ\, 85296\, United States
CATEGORIES:Health & Wellness
ATTACH;FMTTYPE=image/png:https://hdsouth.org/wp-content/uploads/2017/12/Untitled-design.png
GEO:33.3494006;-111.7901119
X-APPLE-STRUCTURED-LOCATION;VALUE=URI;X-ADDRESS=HD SOUTH 10 S. Gilbert Road Gilbert AZ 85296 United States;X-APPLE-RADIUS=500;X-TITLE=10 S. Gilbert Road:geo:-111.7901119,33.3494006
END:VEVENT
BEGIN:VEVENT
DTSTART;TZID=America/Phoenix:20220315T183000
DTEND;TZID=America/Phoenix:20220315T200000
DTSTAMP:20260421T115540
CREATED:20220215T192336Z
LAST-MODIFIED:20220215T192336Z
UID:10003362-1647369000-1647374400@hdsouth.org
SUMMARY:History of Spring Training in Arizona
DESCRIPTION:Major League Baseball teams have been training in Arizona for more than a century\, starting with sporadic training sessions and barnstorming games and evolving into the modern Cactus League. Join Arizona historian Kevin Schindler for this virtual presentation about the evolution of Cactus League Baseball in the Valley. \nRegistration is required.
URL:https://hdsouth.org/event/history-of-spring-training-in-arizona/
LOCATION:HD SOUTH\, 10 S. Gilbert Road\, Gilbert\, AZ\, 85296\, United States
CATEGORIES:History Cafés,Programs
ATTACH;FMTTYPE=:
GEO:33.3494006;-111.7901119
X-APPLE-STRUCTURED-LOCATION;VALUE=URI;X-ADDRESS=HD SOUTH 10 S. Gilbert Road Gilbert AZ 85296 United States;X-APPLE-RADIUS=500;X-TITLE=10 S. Gilbert Road:geo:-111.7901119,33.3494006
END:VEVENT
BEGIN:VEVENT
DTSTART;TZID=America/Phoenix:20220316T093000
DTEND;TZID=America/Phoenix:20220316T143000
DTSTAMP:20260421T115540
CREATED:20220115T151136Z
LAST-MODIFIED:20220115T151136Z
UID:10003354-1647423000-1647441000@hdsouth.org
SUMMARY:Blood Drive
DESCRIPTION:We are partnering with the American Red Cross and hosting a blood drive.  The blood drive will be held in our Neely Community room. Every person who donates will receive one free admission pass to HD SOUTH! \n  \nClick on the link below to schedule your donation: \nSchedule Your Blood Donation With The Red Cross (redcrossblood.org)
URL:https://hdsouth.org/event/blood-drive-2/
LOCATION:HD SOUTH\, 10 S. Gilbert Road\, Gilbert\, AZ\, 85296\, United States
CATEGORIES:Events
ATTACH;FMTTYPE=image/jpeg:https://hdsouth.org/wp-content/uploads/2021/09/Blood-drive-e1630597411517.jpeg
GEO:33.3494006;-111.7901119
X-APPLE-STRUCTURED-LOCATION;VALUE=URI;X-ADDRESS=HD SOUTH 10 S. Gilbert Road Gilbert AZ 85296 United States;X-APPLE-RADIUS=500;X-TITLE=10 S. Gilbert Road:geo:-111.7901119,33.3494006
END:VEVENT
BEGIN:VEVENT
DTSTART;TZID=America/Phoenix:20220319T103000
DTEND;TZID=America/Phoenix:20220319T120000
DTSTAMP:20260421T115540
CREATED:20220215T193240Z
LAST-MODIFIED:20220215T193240Z
UID:10003363-1647685800-1647691200@hdsouth.org
SUMMARY:Art Workshop with GVAL
DESCRIPTION:Join HD SOUTH and the Gilbert Visual Arts League for this fun and interactive art workshop. A member from the Gilbert Visual Arts League will lead participants through a workshop where they will lean new artistic techniques and make their own personal art projects. All supplies will be provided. \nAges 10 & up. Registration is required.
URL:https://hdsouth.org/event/art-workshop-with-gval/
LOCATION:HD SOUTH\, 10 S. Gilbert Road\, Gilbert\, AZ\, 85296\, United States
CATEGORIES:Art Workshops,Programs
ATTACH;FMTTYPE=image/jpeg:https://hdsouth.org/wp-content/uploads/2022/02/GVAL.jpg
GEO:33.3494006;-111.7901119
X-APPLE-STRUCTURED-LOCATION;VALUE=URI;X-ADDRESS=HD SOUTH 10 S. Gilbert Road Gilbert AZ 85296 United States;X-APPLE-RADIUS=500;X-TITLE=10 S. Gilbert Road:geo:-111.7901119,33.3494006
END:VEVENT
BEGIN:VEVENT
DTSTART;TZID=America/Phoenix:20220321T183000
DTEND;TZID=America/Phoenix:20220321T193000
DTSTAMP:20260421T115540
CREATED:20220212T204042Z
LAST-MODIFIED:20220212T204042Z
UID:10003358-1647887400-1647891000@hdsouth.org
SUMMARY:Monday Yoga with Ginger
DESCRIPTION:Have a case of the Mondays? Join instructor Ginger Smith as she guides the class on relaxation techniques and muscle conditioning. Ginger is a certified yoga and group fitness instructor\, and her training includes restorative & yin flow\, yoga & weights\, and chair yoga. Her classes incorporate movement\, breathing\, and emotional balance. \nOpen to all levels. Bring your own mat. \nAges 16 & up. \nRegistration is required. \nMasks Recommended
URL:https://hdsouth.org/event/monday-yoga-with-ginger-29/
LOCATION:HD SOUTH\, 10 S. Gilbert Road\, Gilbert\, AZ\, 85296\, United States
CATEGORIES:Health & Wellness
ATTACH;FMTTYPE=image/png:https://hdsouth.org/wp-content/uploads/2017/12/Untitled-design.png
GEO:33.3494006;-111.7901119
X-APPLE-STRUCTURED-LOCATION;VALUE=URI;X-ADDRESS=HD SOUTH 10 S. Gilbert Road Gilbert AZ 85296 United States;X-APPLE-RADIUS=500;X-TITLE=10 S. Gilbert Road:geo:-111.7901119,33.3494006
END:VEVENT
BEGIN:VEVENT
DTSTART;TZID=America/Phoenix:20220322T183000
DTEND;TZID=America/Phoenix:20220322T200000
DTSTAMP:20260421T115540
CREATED:20220215T193618Z
LAST-MODIFIED:20220215T193618Z
UID:10003364-1647973800-1647979200@hdsouth.org
SUMMARY:Cooking up Good Health with Rachel Thomas
DESCRIPTION:Anxious to jump start a healthy routine with healthy eating and cooking? Need some recipe inspiration and good-for-you recipes? Then you will not want to miss this healthy cooking program conducted by Rachel Thomas. Rachel has hosted thousands of cooking demonstrations and has an extensive library of healthy recipes\, some of which she will share and demonstrate during this workshop. \nRegistration is required.
URL:https://hdsouth.org/event/cooking-up-good-health-with-rachel-thomas-4/
LOCATION:HD SOUTH\, 10 S. Gilbert Road\, Gilbert\, AZ\, 85296\, United States
CATEGORIES:Health & Wellness,Programs
ATTACH;FMTTYPE=image/jpeg:https://hdsouth.org/wp-content/uploads/2021/07/nutrition-e1627752844638.jpeg
GEO:33.3494006;-111.7901119
X-APPLE-STRUCTURED-LOCATION;VALUE=URI;X-ADDRESS=HD SOUTH 10 S. Gilbert Road Gilbert AZ 85296 United States;X-APPLE-RADIUS=500;X-TITLE=10 S. Gilbert Road:geo:-111.7901119,33.3494006
END:VEVENT
BEGIN:VEVENT
DTSTART;TZID=America/Phoenix:20220324T180000
DTEND;TZID=America/Phoenix:20220324T193000
DTSTAMP:20260421T115540
CREATED:20220317T183658Z
LAST-MODIFIED:20220317T183658Z
UID:10003379-1648144800-1648150200@hdsouth.org
SUMMARY:Annual Members Meeting - 2022
DESCRIPTION:Join us for our 2022 Annual Members meeting and election of trustees.\nIn the Neely Community Room \nGuest Speaker Jerry Wilson\, Intel Encore Fellow\n“Stranger Things—Gilbert Edition”
URL:https://hdsouth.org/event/annual-members-meeting-2022/
LOCATION:HD SOUTH\, 10 S. Gilbert Road\, Gilbert\, AZ\, 85296\, United States
CATEGORIES:Events
ATTACH;FMTTYPE=image/jpeg:https://hdsouth.org/wp-content/uploads/2017/10/HD-SOUTH-Events-Banner.jpg
GEO:33.3494006;-111.7901119
X-APPLE-STRUCTURED-LOCATION;VALUE=URI;X-ADDRESS=HD SOUTH 10 S. Gilbert Road Gilbert AZ 85296 United States;X-APPLE-RADIUS=500;X-TITLE=10 S. Gilbert Road:geo:-111.7901119,33.3494006
END:VEVENT
BEGIN:VEVENT
DTSTART;TZID=America/Phoenix:20220326T103000
DTEND;TZID=America/Phoenix:20220326T120000
DTSTAMP:20260421T115540
CREATED:20220215T200923Z
LAST-MODIFIED:20220326T151424Z
UID:10003365-1648290600-1648296000@hdsouth.org
SUMMARY:STEM Saturday
DESCRIPTION:Spend a Saturday morning at the museum conducting fun and exciting science experiments. Local ASU professor\, James Degraffenreid\, will lead participants through science experiments that will allow kids to make their own ice cream! Come explore the exciting side of science safely and be ready to lean. All supplies will be provided. \nAges 6 & up\, under 12 must be accompanied by an adult. \nThis program will be rescheduled
URL:https://hdsouth.org/event/stem-saturday/
LOCATION:HD SOUTH\, 10 S. Gilbert Road\, Gilbert\, AZ\, 85296\, United States
CATEGORIES:Programs,Science Cafés
ATTACH;FMTTYPE=image/jpeg:https://hdsouth.org/wp-content/uploads/2021/04/STEM-e1617292079722.jpeg
GEO:33.3494006;-111.7901119
X-APPLE-STRUCTURED-LOCATION;VALUE=URI;X-ADDRESS=HD SOUTH 10 S. Gilbert Road Gilbert AZ 85296 United States;X-APPLE-RADIUS=500;X-TITLE=10 S. Gilbert Road:geo:-111.7901119,33.3494006
END:VEVENT
BEGIN:VEVENT
DTSTART;TZID=America/Phoenix:20220328T183000
DTEND;TZID=America/Phoenix:20220328T193000
DTSTAMP:20260421T115540
CREATED:20220215T172220Z
LAST-MODIFIED:20220215T172220Z
UID:10003359-1648492200-1648495800@hdsouth.org
SUMMARY:Monday Yoga with Ginger
DESCRIPTION:Have a case of the Mondays? Join instructor Ginger Smith as she guides the class on relaxation techniques and muscle conditioning. Ginger is a certified yoga and group fitness instructor\, and her training includes restorative & yin flow\, yoga & weights\, and chair yoga. Her classes incorporate movement\, breathing\, and emotional balance. \nOpen to all levels. Bring your own mat. \nAges 16 & up. \nRegistration is required. \nMasks Recommended
URL:https://hdsouth.org/event/monday-yoga-with-ginger-30/
LOCATION:HD SOUTH\, 10 S. Gilbert Road\, Gilbert\, AZ\, 85296\, United States
CATEGORIES:Health & Wellness
ATTACH;FMTTYPE=image/png:https://hdsouth.org/wp-content/uploads/2017/12/Untitled-design.png
GEO:33.3494006;-111.7901119
X-APPLE-STRUCTURED-LOCATION;VALUE=URI;X-ADDRESS=HD SOUTH 10 S. Gilbert Road Gilbert AZ 85296 United States;X-APPLE-RADIUS=500;X-TITLE=10 S. Gilbert Road:geo:-111.7901119,33.3494006
END:VEVENT
END:VCALENDAR