BEGIN:VCALENDAR
VERSION:2.0
PRODID:-//HD SOUTH - Home Of The Gilbert Historical Museum - ECPv6.15.20//NONSGML v1.0//EN
CALSCALE:GREGORIAN
METHOD:PUBLISH
X-ORIGINAL-URL:https://hdsouth.org
X-WR-CALDESC:Events for HD SOUTH - Home Of The Gilbert Historical Museum
REFRESH-INTERVAL;VALUE=DURATION:PT1H
X-Robots-Tag:noindex
X-PUBLISHED-TTL:PT1H
BEGIN:VTIMEZONE
TZID:America/Phoenix
BEGIN:STANDARD
TZOFFSETFROM:-0700
TZOFFSETTO:-0700
TZNAME:MST
DTSTART:20240101T000000
END:STANDARD
END:VTIMEZONE
BEGIN:VEVENT
DTSTART;TZID=America/Phoenix:20250701T183000
DTEND;TZID=America/Phoenix:20250701T200000
DTSTAMP:20260420T041807
CREATED:20250531T153742Z
LAST-MODIFIED:20250531T153742Z
UID:10003915-1751394600-1751400000@hdsouth.org
SUMMARY:MOVIE NIGHT--ANNE OF GREEN GABLES
DESCRIPTION:Join HD SOUTH for a movie night featuring Anne of Green Gables (1985) with Megan Follows and Collen Dewhurst. Filmed amidst the spectacular scenery of Prince Edward Island\, Canada\, this Emmy Award-winning production follows the enchanting life of orphaned Anne Shirley\, from her struggles as an adolescent to her triumphs as a young woman. Bring a friend and your favorite movie snacks and enjoy an evening of “wit\, style and emotional power.” Ages 16 & up. \nRegistration required. This movie will be shown in two parts.
URL:https://hdsouth.org/event/movie-night-anne-of-green-gables/
LOCATION:HD SOUTH\, 10 S. Gilbert Road\, Gilbert\, AZ\, 85296\, United States
CATEGORIES:Events
ATTACH;FMTTYPE=image/jpeg:https://hdsouth.org/wp-content/uploads/2025/05/ANNE-OF-GREEN-GABLES-e1748705821786.jpg
GEO:33.3494006;-111.7901119
X-APPLE-STRUCTURED-LOCATION;VALUE=URI;X-ADDRESS=HD SOUTH 10 S. Gilbert Road Gilbert AZ 85296 United States;X-APPLE-RADIUS=500;X-TITLE=10 S. Gilbert Road:geo:-111.7901119,33.3494006
END:VEVENT
BEGIN:VEVENT
DTSTART;TZID=America/Phoenix:20250703T080000
DTEND;TZID=America/Phoenix:20250703T170000
DTSTAMP:20260420T041807
CREATED:20250703T151830Z
LAST-MODIFIED:20250703T151830Z
UID:10003937-1751529600-1751562000@hdsouth.org
SUMMARY:AUTHOR VISIT-BOOK READING WITH DALE HALLOCK
DESCRIPTION:Dale Hallock is back and he will share with program attendees highlights and interesting facts from his Gilbert history book “From Cowboys and Sodbusters to a Mega-Residential Community”. Dale came to Gilbert with his parents and siblings as they fled the Oklahoma Dust Bowl and the Great Depression and has called Gilbert his home ever since.  From 1971-1976 he served as the Mayor where he expanded Gilbert from a mere 240 acres to 33\,920 acres\, giving Gilbert the opportunity to grow. Come and enjoy this special opportunity to speak with the author and learn about Gilbert’s history as Dale shares excerpts from his book. \nRegistration is required.
URL:https://hdsouth.org/event/author-visit-book-reading-with-dale-hallock-2/
LOCATION:HD SOUTH\, 10 S. Gilbert Road\, Gilbert\, AZ\, 85296\, United States
CATEGORIES:History Cafés,Programs
ATTACH;FMTTYPE=image/jpeg:https://hdsouth.org/wp-content/uploads/2017/10/FromCowboyAndSodbusters.jpg
GEO:33.3494006;-111.7901119
X-APPLE-STRUCTURED-LOCATION;VALUE=URI;X-ADDRESS=HD SOUTH 10 S. Gilbert Road Gilbert AZ 85296 United States;X-APPLE-RADIUS=500;X-TITLE=10 S. Gilbert Road:geo:-111.7901119,33.3494006
END:VEVENT
BEGIN:VEVENT
DTSTART;VALUE=DATE:20250704
DTEND;VALUE=DATE:20250705
DTSTAMP:20260420T041807
CREATED:20250628T162214Z
LAST-MODIFIED:20250628T162214Z
UID:10003929-1751587200-1751673599@hdsouth.org
SUMMARY:Museum Closed
DESCRIPTION:
URL:https://hdsouth.org/event/museum-closed-19/
LOCATION:HD SOUTH\, 10 S. Gilbert Road\, Gilbert\, AZ\, 85296\, United States
CATEGORIES:Events
ATTACH;FMTTYPE=image/jpeg:https://hdsouth.org/wp-content/uploads/2023/05/July-4th-e1685559207907.jpg
GEO:33.3494006;-111.7901119
X-APPLE-STRUCTURED-LOCATION;VALUE=URI;X-ADDRESS=HD SOUTH 10 S. Gilbert Road Gilbert AZ 85296 United States;X-APPLE-RADIUS=500;X-TITLE=10 S. Gilbert Road:geo:-111.7901119,33.3494006
END:VEVENT
BEGIN:VEVENT
DTSTART;TZID=America/Phoenix:20250707T190000
DTEND;TZID=America/Phoenix:20250707T200000
DTSTAMP:20260420T041807
CREATED:20250531T154213Z
LAST-MODIFIED:20250531T154213Z
UID:10003917-1751914800-1751918400@hdsouth.org
SUMMARY:YOGA AT HD SOUTH
DESCRIPTION:Join HD SOUTH and Yoga’s Arc\, Amilia Lucie and Alyssa Schaeffer for an hour of yoga that will help relax participants while conditioning muscles.  Enjoy the benefits of effective breathing\, improved flexibility\, and greater balance.  This is an all-level yoga class for teens through adults.  Please bring a yoga mat\, water\, and wear comfortable clothing. \nRegistration is required.
URL:https://hdsouth.org/event/yoga-at-hd-south-29/
LOCATION:HD SOUTH\, 10 S. Gilbert Road\, Gilbert\, AZ\, 85296\, United States
CATEGORIES:Health & Wellness,Programs
ATTACH;FMTTYPE=image/png:https://hdsouth.org/wp-content/uploads/2017/12/Untitled-design.png
GEO:33.3494006;-111.7901119
X-APPLE-STRUCTURED-LOCATION;VALUE=URI;X-ADDRESS=HD SOUTH 10 S. Gilbert Road Gilbert AZ 85296 United States;X-APPLE-RADIUS=500;X-TITLE=10 S. Gilbert Road:geo:-111.7901119,33.3494006
END:VEVENT
BEGIN:VEVENT
DTSTART;TZID=America/Phoenix:20250708T183000
DTEND;TZID=America/Phoenix:20250708T200000
DTSTAMP:20260420T041807
CREATED:20250531T155641Z
LAST-MODIFIED:20250618T174341Z
UID:10003921-1751999400-1752004800@hdsouth.org
SUMMARY:ART WITH HEART
DESCRIPTION:Welcome Debra McVay M. Ed.\, for an expressive intuitive art class for adults. Using a guided visualization that will help quiet the busy mind and open a connection to your heart’s intuitive voice. From this reflective space\, you’ll create meaningful\, intuitive artwork using watercolor—no art experience needed\, just a willingness to explore and express from within. \nRegistration required. Attendance limited.
URL:https://hdsouth.org/event/art-with-heart/
LOCATION:HD SOUTH\, 10 S. Gilbert Road\, Gilbert\, AZ\, 85296\, United States
CATEGORIES:Art Workshops,Programs
ATTACH;FMTTYPE=image/jpeg:https://hdsouth.org/wp-content/uploads/2025/05/ART-WITH-HEART-e1748706979850.jpg
GEO:33.3494006;-111.7901119
X-APPLE-STRUCTURED-LOCATION;VALUE=URI;X-ADDRESS=HD SOUTH 10 S. Gilbert Road Gilbert AZ 85296 United States;X-APPLE-RADIUS=500;X-TITLE=10 S. Gilbert Road:geo:-111.7901119,33.3494006
END:VEVENT
BEGIN:VEVENT
DTSTART;TZID=America/Phoenix:20250710T183000
DTEND;TZID=America/Phoenix:20250710T200000
DTSTAMP:20260420T041807
CREATED:20250531T160001Z
LAST-MODIFIED:20250531T160001Z
UID:10003922-1752172200-1752177600@hdsouth.org
SUMMARY:REMEMBERING WALLACE AND LADMO
DESCRIPTION:Join Steve Hoza\, historian extraordinaire and archivist\, for an enjoyable evening learning about the children’s TV show Wallace and Ladmo. The popular after-school show entertained children in the Phoenix area for 35 years. All program attendees will be eligible to win prizes after the presentation\, including\, Ladmo Bags\, posters\, books\, and DVDs. \nRegistration required.
URL:https://hdsouth.org/event/remembering-wallace-and-ladmo/
LOCATION:HD SOUTH\, 10 S. Gilbert Road\, Gilbert\, AZ\, 85296\, United States
CATEGORIES:History Cafés,Programs
ATTACH;FMTTYPE=image/png:https://hdsouth.org/wp-content/uploads/2019/01/wallace-and-ladmo-e1547236643101.png
GEO:33.3494006;-111.7901119
X-APPLE-STRUCTURED-LOCATION;VALUE=URI;X-ADDRESS=HD SOUTH 10 S. Gilbert Road Gilbert AZ 85296 United States;X-APPLE-RADIUS=500;X-TITLE=10 S. Gilbert Road:geo:-111.7901119,33.3494006
END:VEVENT
BEGIN:VEVENT
DTSTART;TZID=America/Phoenix:20250714T113000
DTEND;TZID=America/Phoenix:20250714T130000
DTSTAMP:20260420T041807
CREATED:20250513T160128Z
LAST-MODIFIED:20250513T160128Z
UID:10003912-1752492600-1752498000@hdsouth.org
SUMMARY:LUNCH HOUR BOOK CLUB
DESCRIPTION:Bring your lunch and join HD SOUTH and Literally\, A Bookshop\, who have partnered to host a community book club. The Book Club will meet twice a month\, and the book selection will be discussed over the course of the two sessions. The July book selection is “Before The Coffee Gets Cold” by Toshikazu Kawaguchi.  In a small back alley of Tokyo\, there is a café that has been serving carefully brewed coffee for more than one hundred years. Local legend says that this shop offers something else besides coffee—the chance to travel back in time.  Over the course of one summer\, four customers visit the café in the hopes of making that journey. But time travel isn’t so simple\, and there are rules that must be followed. Most important\, the trip can last only as long as it takes for the coffee to get cold. Heartwarming\, wistful\, mysterious and delightfully quirky\, this internationally bestselling novel explores the age-old question: What would you change if you could travel back in time?\nAdvanced registration is required and limited to the first 12 registrants. To register and purchase the book\, please visit www.literallybookshop.com
URL:https://hdsouth.org/event/lunch-hour-book-club-9/
LOCATION:HD SOUTH\, 10 S. Gilbert Road\, Gilbert\, AZ\, 85296\, United States
CATEGORIES:Programs,Storyteller Programs
ATTACH;FMTTYPE=image/jpeg:https://hdsouth.org/wp-content/uploads/2025/05/Before-the-Coffee-gets-cold-e1747152066834.jpeg
GEO:33.3494006;-111.7901119
X-APPLE-STRUCTURED-LOCATION;VALUE=URI;X-ADDRESS=HD SOUTH 10 S. Gilbert Road Gilbert AZ 85296 United States;X-APPLE-RADIUS=500;X-TITLE=10 S. Gilbert Road:geo:-111.7901119,33.3494006
END:VEVENT
BEGIN:VEVENT
DTSTART;TZID=America/Phoenix:20250715T183000
DTEND;TZID=America/Phoenix:20250715T200000
DTSTAMP:20260420T041807
CREATED:20250531T160806Z
LAST-MODIFIED:20250531T160806Z
UID:10003923-1752604200-1752609600@hdsouth.org
SUMMARY:FAMILY HISTORY-CHILDHOOD TOYS
DESCRIPTION:Join ASU professor emeritus Duane Roen\, founding coordinator for the Project for Writing and Recording Family History in the College of Integrative Science and Arts\, for this unique look at our family history. Each of us has memories of the toys that occupied our play time as children. Some of those toys may have been purchased; some may have been lovingly crafted by family members; some have been ordinary objects that we spontaneously converted to toys—e.g.\, a stick or a rock. In this workshop\, we will talk and write about some of the toys that each of us has had\, reflecting on the role of toys in our lives and the lives of other family members. Age 12 and up. Registration required.
URL:https://hdsouth.org/event/family-history-childhood-toys/
LOCATION:HD SOUTH\, 10 S. Gilbert Road\, Gilbert\, AZ\, 85296\, United States
CATEGORIES:History Cafés,Programs
ATTACH;FMTTYPE=image/jpeg:https://hdsouth.org/wp-content/uploads/2025/05/CHILDHOOD-TOYS-e1748707646846.jpg
GEO:33.3494006;-111.7901119
X-APPLE-STRUCTURED-LOCATION;VALUE=URI;X-ADDRESS=HD SOUTH 10 S. Gilbert Road Gilbert AZ 85296 United States;X-APPLE-RADIUS=500;X-TITLE=10 S. Gilbert Road:geo:-111.7901119,33.3494006
END:VEVENT
BEGIN:VEVENT
DTSTART;TZID=America/Phoenix:20250716T093000
DTEND;TZID=America/Phoenix:20250716T143000
DTSTAMP:20260420T041807
CREATED:20250618T195143Z
LAST-MODIFIED:20250618T195143Z
UID:10003928-1752658200-1752676200@hdsouth.org
SUMMARY:Blood Drive
DESCRIPTION:On Wednesday\, July 16th  \, from 9:30am-2:30pm HD SOUTH is partnering with the American Red Cross to host a blood drive in the BCFAA-South Room. \nTo make an appointment\, log onto HD South Gilbert Appointments \n  \n \n  \nThis summer\, we’re giving donors an opportunity to be a star for patients in need by giving blood\, platelets or AB Elite plasma. When they do\, they’ll be rewarded with a Fandango Movie Ticket^^ by email (up to $15 ticket price and fees).* Terms and additional details can be found at RedCrossBlood.org/July.
URL:https://hdsouth.org/event/blood-drive-15/
LOCATION:HD SOUTH\, 10 S. Gilbert Road\, Gilbert\, AZ\, 85296\, United States
CATEGORIES:Events
ATTACH;FMTTYPE=image/jpeg:https://hdsouth.org/wp-content/uploads/2021/09/Blood-drive-e1630597411517.jpeg
GEO:33.3494006;-111.7901119
X-APPLE-STRUCTURED-LOCATION;VALUE=URI;X-ADDRESS=HD SOUTH 10 S. Gilbert Road Gilbert AZ 85296 United States;X-APPLE-RADIUS=500;X-TITLE=10 S. Gilbert Road:geo:-111.7901119,33.3494006
END:VEVENT
BEGIN:VEVENT
DTSTART;TZID=America/Phoenix:20250719T103000
DTEND;TZID=America/Phoenix:20250719T120000
DTSTAMP:20260420T041807
CREATED:20250531T161426Z
LAST-MODIFIED:20250531T161426Z
UID:10003924-1752921000-1752926400@hdsouth.org
SUMMARY:BEGINNER HULA CLASS
DESCRIPTION:In this wonderful program\, Dr. Adelaida Severson\, will instruct participants on the art of hula storytelling. Born and raised in Hawaii\, Dr. Severson learned the hula while growing up and enjoys teaching it in her spare time. Everyone will leave having learned an easy hula dance to share with others. Ages 8 and up. Please wear comfortable clothing\, barefoot\, and ready to sway\, and learn the basics of the hula. \nRegistration is required.
URL:https://hdsouth.org/event/beginner-hula-class-2/
LOCATION:HD SOUTH\, 10 S. Gilbert Road\, Gilbert\, AZ\, 85296\, United States
CATEGORIES:Health & Wellness,Programs
ATTACH;FMTTYPE=image/jpeg:https://hdsouth.org/wp-content/uploads/2025/05/Hula.jpg
GEO:33.3494006;-111.7901119
X-APPLE-STRUCTURED-LOCATION;VALUE=URI;X-ADDRESS=HD SOUTH 10 S. Gilbert Road Gilbert AZ 85296 United States;X-APPLE-RADIUS=500;X-TITLE=10 S. Gilbert Road:geo:-111.7901119,33.3494006
END:VEVENT
BEGIN:VEVENT
DTSTART;TZID=America/Phoenix:20250719T130000
DTEND;TZID=America/Phoenix:20250719T143000
DTSTAMP:20260420T041807
CREATED:20250531T161652Z
LAST-MODIFIED:20250716T212439Z
UID:10003925-1752930000-1752935400@hdsouth.org
SUMMARY:PERCUSSION MAKE AND PLAY
DESCRIPTION:Play musical instruments from around the world with ASU Professors Emeritus Duane and Maureen Roen\, in this fun and interactive musical workshop. Learn how to make and play simple percussion instruments from items found around the home. The workshop will end with a brief concert performance alongside Duane and Maureen. All supplies provided. Ages 6 & up. \nRegistration required.
URL:https://hdsouth.org/event/percussion-make-and-play/
LOCATION:HD SOUTH\, 10 S. Gilbert Road\, Gilbert\, AZ\, 85296\, United States
CATEGORIES:Music,Programs
ATTACH;FMTTYPE=image/jpeg:https://hdsouth.org/wp-content/uploads/2025/02/Duane-Roen-Make-and-Play-1-scaled-e1741203315893.jpg
GEO:33.3494006;-111.7901119
X-APPLE-STRUCTURED-LOCATION;VALUE=URI;X-ADDRESS=HD SOUTH 10 S. Gilbert Road Gilbert AZ 85296 United States;X-APPLE-RADIUS=500;X-TITLE=10 S. Gilbert Road:geo:-111.7901119,33.3494006
END:VEVENT
BEGIN:VEVENT
DTSTART;TZID=America/Phoenix:20250721T190000
DTEND;TZID=America/Phoenix:20250721T200000
DTSTAMP:20260420T041807
CREATED:20250531T154921Z
LAST-MODIFIED:20250531T154921Z
UID:10003919-1753124400-1753128000@hdsouth.org
SUMMARY:YOGA AT HD SOUTH
DESCRIPTION:Join HD SOUTH and Yoga’s Arc\, Amilia Lucie and Alyssa Schaeffer for an hour of yoga that will help relax participants while conditioning muscles.  Enjoy the benefits of effective breathing\, improved flexibility\, and greater balance.  This is an all-level yoga class for teens through adults.  Please bring a yoga mat\, water\, and wear comfortable clothing. \nRegistration is required.
URL:https://hdsouth.org/event/yoga-at-hd-south-31/
LOCATION:HD SOUTH\, 10 S. Gilbert Road\, Gilbert\, AZ\, 85296\, United States
CATEGORIES:Health & Wellness,Programs
ATTACH;FMTTYPE=image/png:https://hdsouth.org/wp-content/uploads/2017/12/Untitled-design.png
GEO:33.3494006;-111.7901119
X-APPLE-STRUCTURED-LOCATION;VALUE=URI;X-ADDRESS=HD SOUTH 10 S. Gilbert Road Gilbert AZ 85296 United States;X-APPLE-RADIUS=500;X-TITLE=10 S. Gilbert Road:geo:-111.7901119,33.3494006
END:VEVENT
BEGIN:VEVENT
DTSTART;TZID=America/Phoenix:20250722T183000
DTEND;TZID=America/Phoenix:20250722T193000
DTSTAMP:20260420T041807
CREATED:20250531T161903Z
LAST-MODIFIED:20250626T142712Z
UID:10003926-1753209000-1753212600@hdsouth.org
SUMMARY:SOUND MEDITATION FOR GRIEF
DESCRIPTION:Join Stuart Preston\, a certified Sound Practitioner\, for a deeply empathetic Sound Meditation Session designed for those grappling with loss. It’s not about moving on but finding moments of peace and clarity amidst sorrow. Bring a yoga mat\, blankets\, and a pillow to create your personal sanctuary. Dress comfortably and arrive 10 minutes early. Learn more about Stuart and this unique practice at www.LaoStu.com. \nRegistration is required due to limited space. Ages 16 & up.
URL:https://hdsouth.org/event/sound-meditation-for-grief-23/
LOCATION:HD SOUTH\, 10 S. Gilbert Road\, Gilbert\, AZ\, 85296\, United States
CATEGORIES:Health & Wellness,Programs
GEO:33.3494006;-111.7901119
X-APPLE-STRUCTURED-LOCATION;VALUE=URI;X-ADDRESS=HD SOUTH 10 S. Gilbert Road Gilbert AZ 85296 United States;X-APPLE-RADIUS=500;X-TITLE=10 S. Gilbert Road:geo:-111.7901119,33.3494006
END:VEVENT
BEGIN:VEVENT
DTSTART;TZID=America/Phoenix:20250728T113000
DTEND;TZID=America/Phoenix:20250728T130000
DTSTAMP:20260420T041807
CREATED:20250513T160449Z
LAST-MODIFIED:20250513T160449Z
UID:10003913-1753702200-1753707600@hdsouth.org
SUMMARY:LUNCH HOUR BOOK CLUB
DESCRIPTION:Bring your lunch and join HD SOUTH and Literally\, A Bookshop\, who have partnered to host a community book club. The Book Club will meet twice a month\, and the book selection will be discussed over the course of the two sessions. The July book selection is “Before The Coffee Gets Cold” by Toshikazu Kawaguchi.  In a small back alley of Tokyo\, there is a café that has been serving carefully brewed coffee for more than one hundred years. Local legend says that this shop offers something else besides coffee—the chance to travel back in time.  Over the course of one summer\, four customers visit the café in the hopes of making that journey. But time travel isn’t so simple\, and there are rules that must be followed. Most important\, the trip can last only as long as it takes for the coffee to get cold. Heartwarming\, wistful\, mysterious and delightfully quirky\, this internationally bestselling novel explores the age-old question: What would you change if you could travel back in time?\nAdvanced registration is required and limited to the first 12 registrants. To register and purchase the book\, please visit www.literallybookshop.com
URL:https://hdsouth.org/event/lunch-hour-book-club-10/
LOCATION:HD SOUTH\, 10 S. Gilbert Road\, Gilbert\, AZ\, 85296\, United States
CATEGORIES:Programs,Storyteller Programs
ATTACH;FMTTYPE=image/jpeg:https://hdsouth.org/wp-content/uploads/2025/05/Before-the-Coffee-gets-cold-e1747152066834.jpeg
GEO:33.3494006;-111.7901119
X-APPLE-STRUCTURED-LOCATION;VALUE=URI;X-ADDRESS=HD SOUTH 10 S. Gilbert Road Gilbert AZ 85296 United States;X-APPLE-RADIUS=500;X-TITLE=10 S. Gilbert Road:geo:-111.7901119,33.3494006
END:VEVENT
BEGIN:VEVENT
DTSTART;TZID=America/Phoenix:20250729T183000
DTEND;TZID=America/Phoenix:20250729T200000
DTSTAMP:20260420T041807
CREATED:20250531T154002Z
LAST-MODIFIED:20250531T162350Z
UID:10003916-1753813800-1753819200@hdsouth.org
SUMMARY:MOVIE NIGHT--ANNE OF GREEN GABLES
DESCRIPTION:Join HD SOUTH for a movie night featuring Anne of Green Gables (1985) with Megan Follows and Collen Dewhurst. Filmed amidst the spectacular scenery of Prince Edward Island\, Canada\, this Emmy Award-winning production follows the enchanting life of orphaned Anne Shirley\, from her struggles as an adolescent to her triumphs as a young woman. Bring a friend and your favorite movie snacks and enjoy an evening of “wit\, style and emotional power.” Ages 16 & up. \nRegistration required. This movie will be shown in two parts.
URL:https://hdsouth.org/event/movie-night-anne-of-green-gables-2/
LOCATION:HD SOUTH\, 10 S. Gilbert Road\, Gilbert\, AZ\, 85296\, United States
CATEGORIES:Events
ATTACH;FMTTYPE=image/jpeg:https://hdsouth.org/wp-content/uploads/2025/05/ANNE-OF-GREEN-GABLES-e1748705821786.jpg
GEO:33.3494006;-111.7901119
X-APPLE-STRUCTURED-LOCATION;VALUE=URI;X-ADDRESS=HD SOUTH 10 S. Gilbert Road Gilbert AZ 85296 United States;X-APPLE-RADIUS=500;X-TITLE=10 S. Gilbert Road:geo:-111.7901119,33.3494006
END:VEVENT
BEGIN:VEVENT
DTSTART;TZID=America/Phoenix:20250731T183000
DTEND;TZID=America/Phoenix:20250731T200000
DTSTAMP:20260420T041807
CREATED:20250531T162228Z
LAST-MODIFIED:20250723T010255Z
UID:10003927-1753986600-1753992000@hdsouth.org
SUMMARY:PAINT & SIP
DESCRIPTION:Join local acclaimed artist Jean Smith\, for a paint and sip night at the museum. Bring a friend and your favorite beverage and enjoy an evening of painting. During this workshop\, participants will be instructed on varying artistic techniques to make their own personal art projects. Be sure to bring your special someone for an evening of painting and fun.  All supplies provided. \nRegistration is required.
URL:https://hdsouth.org/event/paint-sip-3/
LOCATION:HD SOUTH\, 10 S. Gilbert Road\, Gilbert\, AZ\, 85296\, United States
CATEGORIES:Art Workshops,Programs
ATTACH;FMTTYPE=image/jpeg:https://hdsouth.org/wp-content/uploads/2022/01/PAint-and-Sip-e1641923078627.jpg
GEO:33.3494006;-111.7901119
X-APPLE-STRUCTURED-LOCATION;VALUE=URI;X-ADDRESS=HD SOUTH 10 S. Gilbert Road Gilbert AZ 85296 United States;X-APPLE-RADIUS=500;X-TITLE=10 S. Gilbert Road:geo:-111.7901119,33.3494006
END:VEVENT
END:VCALENDAR